BEGIN:VCALENDAR
VERSION:2.0
PRODID:-//GunStuff TV - ECPv6.15.20//NONSGML v1.0//EN
CALSCALE:GREGORIAN
METHOD:PUBLISH
X-ORIGINAL-URL:https://gunstuff.tv
X-WR-CALDESC:Events for GunStuff TV
REFRESH-INTERVAL;VALUE=DURATION:PT1H
X-Robots-Tag:noindex
X-PUBLISHED-TTL:PT1H
BEGIN:VTIMEZONE
TZID:UTC
BEGIN:STANDARD
TZOFFSETFROM:+0000
TZOFFSETTO:+0000
TZNAME:UTC
DTSTART:20250101T000000
END:STANDARD
END:VTIMEZONE
BEGIN:VEVENT
DTSTART;TZID=UTC:20260426T150000
DTEND;TZID=UTC:20260426T213000
DTSTAMP:20260421T173818
CREATED:20260421T200352Z
LAST-MODIFIED:20260421T200352Z
UID:10008577-1777215600-1777239000@gunstuff.tv
SUMMARY:DAP - IDPA Match April 26 2026
DESCRIPTION:We plan to have 6 stages at the match within the 5 bays on the DAP range.  The DAP IDPA Match  starts at 9am and check-in closes at 08:30a.. Be sure to arrive early to check-in\, you will not be able to participate if you are not checked in by 8:30am.  Sign ups are online only\, limited walk-Ins will be accepted only if the match is not full. The Club is using STRIPE to process payments via Practiscore.\n**IMPORTANT**  The International Defensive Pistol Association\, Inc. (IDPA) is prohibiting the use of the SIG Sauer P320 in all of it’s variants from any competition or event under the name of IDPA. All other SIG Sauer models may be used in the division appropriate for their configuration.\nTo participate in a IDPA match at the Diablo Pistol Action range you must have successfully completed our Orientation/Safety Class (we do not currently accept classes from other ranges) or have a current USPSA /IDPA /SCSA/ICORE classification above the level of “U”. In addition each participant needs to bring or have a photo of a current USI waiver range card to shoot at the range. If you do not have a current “Orange” card go to https://unitedsportsmen.com/waiver/ to complete the waiver online prior the the match.   We can issue temporary waiver cards at the match if you have completed the online portion. If you are unable to attend after registering be sure to withdraw at least 48 hours prior to the start of the match if requesting a refund\, credit card company processing fees will not be refunded.
URL:https://gunstuff.tv/event/dap-idpa-match-april-26-2026/
LOCATION:4700 Evora Road\, Concord California\, United States
END:VEVENT
END:VCALENDAR