BEGIN:VCALENDAR
VERSION:2.0
PRODID:-//GunStuff TV - ECPv6.15.20//NONSGML v1.0//EN
CALSCALE:GREGORIAN
METHOD:PUBLISH
X-ORIGINAL-URL:https://gunstuff.tv
X-WR-CALDESC:Events for GunStuff TV
REFRESH-INTERVAL;VALUE=DURATION:PT1H
X-Robots-Tag:noindex
X-PUBLISHED-TTL:PT1H
BEGIN:VTIMEZONE
TZID:UTC
BEGIN:STANDARD
TZOFFSETFROM:+0000
TZOFFSETTO:+0000
TZNAME:UTC
DTSTART:20250101T000000
END:STANDARD
END:VTIMEZONE
BEGIN:VEVENT
DTSTART;TZID=UTC:20260424T140000
DTEND;TZID=UTC:20260424T190000
DTSTAMP:20260423T050505
CREATED:20260421T200329Z
LAST-MODIFIED:20260421T200329Z
UID:10008374-1777039200-1777057200@gunstuff.tv
SUMMARY:TTG Tune Up - Bland MO - Intrepid Defense Training Complex
DESCRIPTION:The tune-up is especially designed to polish firearms competencies and fundamentals that are needed to succeed in tactical games competitions.  Subjects that will be covered are firearms maintenance\, firearms inspection\, Marksmanship fundamentals\, grouping\, zeroing\, ballistics\, holdovers and hold unders\, positional shooting\, barricade utilization\, safety\, scoring\, and mental management. Bottom line\, This course is designed to help you unlock your full potential on competition day.\nTune Up will be on Friday before the event weekend from 9am-12pm. Participation will be capped at 20 for this course.\nSession Content\n– Spot check zero on pistol and rifle\n– Fine-tune coaching\n– Positioning\n– Barricade work / game planning
URL:https://gunstuff.tv/event/ttg-tune-up-bland-mo-intrepid-defense-training-complex/
LOCATION:4645 Elk Head Rd Bland\, Bland MO\, United States
END:VEVENT
END:VCALENDAR