BEGIN:VCALENDAR
VERSION:2.0
PRODID:-//GunStuff TV - ECPv6.15.20//NONSGML v1.0//EN
CALSCALE:GREGORIAN
METHOD:PUBLISH
X-ORIGINAL-URL:https://gunstuff.tv
X-WR-CALDESC:Events for GunStuff TV
REFRESH-INTERVAL;VALUE=DURATION:PT1H
X-Robots-Tag:noindex
X-PUBLISHED-TTL:PT1H
BEGIN:VTIMEZONE
TZID:UTC
BEGIN:STANDARD
TZOFFSETFROM:+0000
TZOFFSETTO:+0000
TZNAME:UTC
DTSTART:20250101T000000
END:STANDARD
END:VTIMEZONE
BEGIN:VEVENT
DTSTART;TZID=UTC:20260425T143000
DTEND;TZID=UTC:20260425T203000
DTSTAMP:20260424T085536
CREATED:20260421T200317Z
LAST-MODIFIED:20260421T200317Z
UID:10008272-1777127400-1777149000@gunstuff.tv
SUMMARY:Brocks Gap PCSL 2-gun April 2026
DESCRIPTION:This is a 2-gun hit factor scored match. Expect 5-7 stages depending on how many shooters register for the match.\nAt least one stage can have steel rifle targets out to 200yd but the entire match will be 1x red dot / PCC friendly.\nAmmo recommendation is 150 rifle and 150 pistol but an exact round count will be sent to the shooters via email once the stages are set up the week prior to the match.\nPCC is allowed but only as a replacement for your rifle. Therefore you will still be required to shoot a pistol.\nMatch fee is $20\, please bring cash. We do not have card or online payment set up at this time.\n*ALL WEAPONS MUST BE UNLOADED AND BAGGED PRIOR TO ARRIVAL ON MATCH DAY*\n*ALL RIFLES MUST HAVE CHAMBER FLAGS*
URL:https://gunstuff.tv/event/brocks-gap-pcsl-2-gun-april-2026/
LOCATION:4610 Camp Creek Rd\, Paul\, AL\, United States
GEO:31.320169;-86.743854
END:VEVENT
END:VCALENDAR