BEGIN:VCALENDAR
VERSION:2.0
PRODID:-//GunStuff TV - ECPv6.15.20//NONSGML v1.0//EN
CALSCALE:GREGORIAN
METHOD:PUBLISH
X-WR-CALNAME:GunStuff TV
X-ORIGINAL-URL:https://gunstuff.tv
X-WR-CALDESC:Events for GunStuff TV
REFRESH-INTERVAL;VALUE=DURATION:PT1H
X-Robots-Tag:noindex
X-PUBLISHED-TTL:PT1H
BEGIN:VTIMEZONE
TZID:UTC
BEGIN:STANDARD
TZOFFSETFROM:+0000
TZOFFSETTO:+0000
TZNAME:UTC
DTSTART:20250101T000000
END:STANDARD
END:VTIMEZONE
BEGIN:VEVENT
DTSTART;TZID=UTC:20260418T140000
DTEND;TZID=UTC:20260418T190000
DTSTAMP:20260424T073820
CREATED:20260414T200215Z
LAST-MODIFIED:20260414T200215Z
UID:10007689-1776520800-1776538800@gunstuff.tv
SUMMARY:Brock's Gap NRL22 April 2026 Match
DESCRIPTION:Monthly NRL22 match held on range C-1 (100 yard range).\nWe will shoot the published COF as well as a couple bonus stages. \nSIGN-IN CLOSES AT 9:00.  MANDATORY SAFETY BRIEFING AND ZERO CHECK FOLLOW IMMEDIATELY AND MATCH BEGINS AT 9:30.\nMore information\, contact Michael Hassinger at mjhassinger@gmail.com
URL:https://gunstuff.tv/event/brocks-gap-nrl22-april-2026-match/
LOCATION:4610 CAMP CREEK RD\, PELL CITY AL\, United States
END:VEVENT
END:VCALENDAR