BEGIN:VCALENDAR
VERSION:2.0
PRODID:-//GunStuff TV - ECPv6.15.20//NONSGML v1.0//EN
CALSCALE:GREGORIAN
METHOD:PUBLISH
X-ORIGINAL-URL:https://gunstuff.tv
X-WR-CALDESC:Events for GunStuff TV
REFRESH-INTERVAL;VALUE=DURATION:PT1H
X-Robots-Tag:noindex
X-PUBLISHED-TTL:PT1H
BEGIN:VTIMEZONE
TZID:UTC
BEGIN:STANDARD
TZOFFSETFROM:+0000
TZOFFSETTO:+0000
TZNAME:UTC
DTSTART:20250101T000000
END:STANDARD
END:VTIMEZONE
BEGIN:VEVENT
DTSTART;TZID=UTC:20260425T130000
DTEND;TZID=UTC:20260425T183000
DTSTAMP:20260424T085523
CREATED:20260421T200322Z
LAST-MODIFIED:20260421T200322Z
UID:10008310-1777122000-1777141800@gunstuff.tv
SUMMARY:OVR Squatchy Spring Fling April NRL22 COF
DESCRIPTION:We will shoot the NRL22 5 stage COF for April 2026 with bonus stages.\nSight in begins at 9am and match begins at 10am
URL:https://gunstuff.tv/event/ovr-squatchy-spring-fling-april-nrl22-cof/
LOCATION:45716 Middle Beaver Rd\, South Charleston\, OH\, United States
GEO:39.860893;-83.635201
END:VEVENT
END:VCALENDAR