BEGIN:VCALENDAR
VERSION:2.0
PRODID:-//GunStuff TV - ECPv6.15.20//NONSGML v1.0//EN
CALSCALE:GREGORIAN
METHOD:PUBLISH
X-WR-CALNAME:GunStuff TV
X-ORIGINAL-URL:https://gunstuff.tv
X-WR-CALDESC:Events for GunStuff TV
REFRESH-INTERVAL;VALUE=DURATION:PT1H
X-Robots-Tag:noindex
X-PUBLISHED-TTL:PT1H
BEGIN:VTIMEZONE
TZID:UTC
BEGIN:STANDARD
TZOFFSETFROM:+0000
TZOFFSETTO:+0000
TZNAME:UTC
DTSTART:20250101T000000
END:STANDARD
END:VTIMEZONE
BEGIN:VEVENT
DTSTART;TZID=UTC:20260411T130000
DTEND;TZID=UTC:20260411T180000
DTSTAMP:20260424T104541
CREATED:20260407T195421Z
LAST-MODIFIED:20260407T195421Z
UID:10007077-1775912400-1775930400@gunstuff.tv
SUMMARY:Bradford Steel Challenge April Match 8 right out of the gate
DESCRIPTION:8 Stages  **WEATHER PERMITTING** of Steel Challenge!.  $25 for the first gun\, $15 for the second gun.** We only accept cash on the day off the match.** Please try and bring small bills. You must be present for the safety brief or you won’t be able to shoot. If waitlisted I will add as many additional spots as I can. Please squad within 24 hours.\n               ** If the match is full and you are a club member I will get you into the match **\nLocation:\nMosena Drive\nCharlestown\, Rhode Island 02808\nIn-person check-in opens at 8:00 am on the day of the match. Shooters Safety Briefing is at 8:45 and the match begins right after the meeting is done.\nThe Club gates will open at 8:00am the day of the match.
URL:https://gunstuff.tv/event/bradford-steel-challenge-april-match-8-right-out-of-the-gate/
LOCATION:45 Mosena drive\, Charlestown Rhode Island\, United States
END:VEVENT
END:VCALENDAR