BEGIN:VCALENDAR
VERSION:2.0
PRODID:-//GunStuff TV - ECPv6.15.20//NONSGML v1.0//EN
CALSCALE:GREGORIAN
METHOD:PUBLISH
X-ORIGINAL-URL:https://gunstuff.tv
X-WR-CALDESC:Events for GunStuff TV
REFRESH-INTERVAL;VALUE=DURATION:PT1H
X-Robots-Tag:noindex
X-PUBLISHED-TTL:PT1H
BEGIN:VTIMEZONE
TZID:UTC
BEGIN:STANDARD
TZOFFSETFROM:+0000
TZOFFSETTO:+0000
TZNAME:UTC
DTSTART:20250101T000000
END:STANDARD
END:VTIMEZONE
BEGIN:VEVENT
DTSTART;TZID=UTC:20260425T140000
DTEND;TZID=UTC:20260425T210000
DTSTAMP:20260424T090012
CREATED:20260421T200323Z
LAST-MODIFIED:20260421T200323Z
UID:10008320-1777125600-1777150800@gunstuff.tv
SUMMARY:Heart 2 Ranch April 25th
DESCRIPTION:Location:\n44630 Gillette Lane\nRonan\, MT 59864\nThis will be our 3rd event this year in Ronan MT.\n8-10 stages mix of prone and barricade\nExpect a whole new course of fire from last year matches.\nAverage round count will be no more than 100 Rounds.\n30 cal 3200fps or less.\nCheck in / sight in 8:00 AM.\nSafety brief at 8:30AM.\nRounds Downrange 9:00AM.\nNew shooter friendly. Contact me if you are interested in a loaner rifle if you or a friend has never shot before.\nDarby Covey\n406-202-3745\nddean.mccovey@gmail.com
URL:https://gunstuff.tv/event/heart-2-ranch-april-25th/
LOCATION:44630 Gillette Lane\, Ronan MT\, United States
END:VEVENT
END:VCALENDAR