BEGIN:VCALENDAR
VERSION:2.0
PRODID:-//GunStuff TV - ECPv6.15.20//NONSGML v1.0//EN
CALSCALE:GREGORIAN
METHOD:PUBLISH
X-WR-CALNAME:GunStuff TV
X-ORIGINAL-URL:https://gunstuff.tv
X-WR-CALDESC:Events for GunStuff TV
REFRESH-INTERVAL;VALUE=DURATION:PT1H
X-Robots-Tag:noindex
X-PUBLISHED-TTL:PT1H
BEGIN:VTIMEZONE
TZID:UTC
BEGIN:STANDARD
TZOFFSETFROM:+0000
TZOFFSETTO:+0000
TZNAME:UTC
DTSTART:20250101T000000
END:STANDARD
END:VTIMEZONE
BEGIN:VEVENT
DTSTART;TZID=UTC:20260418T140000
DTEND;TZID=UTC:20260418T190000
DTSTAMP:20260424T074049
CREATED:20260414T200232Z
LAST-MODIFIED:20260414T200232Z
UID:10007847-1776520800-1776538800@gunstuff.tv
SUMMARY:Green Valley Action Pistol - April 2026 Monthly Practice Match
DESCRIPTION:We shoot the 4 stages of Action Pistol\, in the same format as The Bianchi Cup.\n– The Moving Target Event\n– The Falling Plate Event\n– The Barricade Event\n– The Practical Event\nRound Count: 192\nMatch Fee: $20\nEarly registration online or in-person day of event.\nCredit card payments not accepted at this time. Cash or check at check-in.\nRegistration starts at 8:00am. Shooting starts at 9:00am.\nAny questions?  Contact Lannie Emfinger at 573-356-1628 or gvshoot1920@gmail.com.
URL:https://gunstuff.tv/event/green-valley-action-pistol-april-2026-monthly-practice-match/
LOCATION:4350 Academy Road\, Hallsville Missouri\, United States
END:VEVENT
END:VCALENDAR