BEGIN:VCALENDAR
VERSION:2.0
PRODID:-//GunStuff TV - ECPv6.15.20//NONSGML v1.0//EN
CALSCALE:GREGORIAN
METHOD:PUBLISH
X-WR-CALNAME:GunStuff TV
X-ORIGINAL-URL:https://gunstuff.tv
X-WR-CALDESC:Events for GunStuff TV
REFRESH-INTERVAL;VALUE=DURATION:PT1H
X-Robots-Tag:noindex
X-PUBLISHED-TTL:PT1H
BEGIN:VTIMEZONE
TZID:UTC
BEGIN:STANDARD
TZOFFSETFROM:+0000
TZOFFSETTO:+0000
TZNAME:UTC
DTSTART:20250101T000000
END:STANDARD
END:VTIMEZONE
BEGIN:VEVENT
DTSTART;TZID=UTC:20260425T140000
DTEND;TZID=UTC:20260425T180000
DTSTAMP:20260424T085802
CREATED:20260421T200325Z
LAST-MODIFIED:20260421T200325Z
UID:10008341-1777125600-1777140000@gunstuff.tv
SUMMARY:CASA Steel Challenge - Apr 2026
DESCRIPTION:CASA’s Steel Challenge match for April (regularly scheduled on the 2nd Saturday of each month). Check our calendar at www.CASARange.org for exceptions.  CASA is a private club\, but is open to the public on pistol match days.\n5 or 6 Stages with at least 3 Classifiers and a minimum of 150 rounds\, please bring plenty of ammunition.\nPlease note new rules were effective Feb. 3\, 2025.  https://scsa.org/rules\nSCSA Tier 1 match with the following Divisions:  OPN\, LTD\, LO\, PROD\, SS\, ISR\, OSR\, CO\, PCCI\, PCCO\, RFPI\, RFPO\, RFRI\, RFRO\nMatch Director reserves the right to max limit of TWO guns per person.\nMatch fee $10 per gun.  Youth $5 per gun.\nYou may now pay online for a $1 fee!  It’s after this initial sign up page (at the bottom) for each division you enter; ie. 2 entries/2 separate charges.\nCheck-in and payment is required 8:15am – 8:45am\, please arrive by 8:30am.\nSee you at the range.\nYour CASA Board of Directors
URL:https://gunstuff.tv/event/casa-steel-challenge-apr-2026-2/
LOCATION:43210 Higginbotham Rd.\, Perryville AR\, United States
END:VEVENT
END:VCALENDAR