BEGIN:VCALENDAR
VERSION:2.0
PRODID:-//GunStuff TV - ECPv6.15.20//NONSGML v1.0//EN
CALSCALE:GREGORIAN
METHOD:PUBLISH
X-ORIGINAL-URL:https://gunstuff.tv
X-WR-CALDESC:Events for GunStuff TV
REFRESH-INTERVAL;VALUE=DURATION:PT1H
X-Robots-Tag:noindex
X-PUBLISHED-TTL:PT1H
BEGIN:VTIMEZONE
TZID:UTC
BEGIN:STANDARD
TZOFFSETFROM:+0000
TZOFFSETTO:+0000
TZNAME:UTC
DTSTART:20250101T000000
END:STANDARD
END:VTIMEZONE
BEGIN:VEVENT
DTSTART;TZID=UTC:20260425T133000
DTEND;TZID=UTC:20260425T190000
DTSTAMP:20260424T090058
CREATED:20260421T200336Z
LAST-MODIFIED:20260421T200336Z
UID:10008447-1777123800-1777143600@gunstuff.tv
SUMMARY:Saukville April Steel Challenge Match
DESCRIPTION:Saukville Rifle & Pistol Club welcomes you to our USPSA Steel Challenge Match.\nFirst Shots at 9:00am. Mandatory Safety Briefing at 8:45. New Competitors unfamiliar with Action Pistol should arrive at 8:30 for a New Shooter Briefing. Coming prior to help setup is highly encouraged. Match ends once tear down is complete.\nThe entire Match will be governed using SCSA Rules.\n4 Stages are planned at a minimum. With good weather\, staff and setup help\, up to 6 may be made available. At least 4 Stages will be classifier stages.\nMatch fee is $25.00\nOne additional entry per competitor will be allowed for $10.00. (Instructions Below).\nSaukville Member discount is $5.00.\nJunior shooter discount is $5.00.\nREFUNDS will be $5.00 less than what you paid.  No refunds within 3 days of the match.\nHOW TO REGISTER FOR A SECOND ENTRY.\nIf you would like to shoot a second division\, please register again and choose the “Additional Entry” discount for a reduction to the standard match entry fee by $15\, which will make your second entry price be $10.00.  Please DO NOT apply any other discounts when selecting this option.  Any discounts for Saukville Members\, RO\, Juniors etc should be applied ONLY to your primary entry.
URL:https://gunstuff.tv/event/saukville-april-steel-challenge-match/
LOCATION:4191 Blue Goose Rd\, West Bend WI\, United States
END:VEVENT
END:VCALENDAR