BEGIN:VCALENDAR
VERSION:2.0
PRODID:-//GunStuff TV - ECPv6.15.20//NONSGML v1.0//EN
CALSCALE:GREGORIAN
METHOD:PUBLISH
X-WR-CALNAME:GunStuff TV
X-ORIGINAL-URL:https://gunstuff.tv
X-WR-CALDESC:Events for GunStuff TV
REFRESH-INTERVAL;VALUE=DURATION:PT1H
X-Robots-Tag:noindex
X-PUBLISHED-TTL:PT1H
BEGIN:VTIMEZONE
TZID:UTC
BEGIN:STANDARD
TZOFFSETFROM:+0000
TZOFFSETTO:+0000
TZNAME:UTC
DTSTART:20250101T000000
END:STANDARD
END:VTIMEZONE
BEGIN:VEVENT
DTSTART;TZID=UTC:20260425T150000
DTEND;TZID=UTC:20260426T000000
DTSTAMP:20260421T171711
CREATED:20260421T200340Z
LAST-MODIFIED:20260421T200340Z
UID:10008473-1777129200-1777161600@gunstuff.tv
SUMMARY:AFGC - IPSC BC Level 2 Qualifier 13 - Abby Classic Rough Cut
DESCRIPTION:Prepay for a Subway Lunch with your Registration fee. All sandwiches are served on Italian bread with processed cheddar\, lettuce and tomato. Price includes 1 bag of chips and 1 cookie. Extra condiments will be available on site.
URL:https://gunstuff.tv/event/afgc-ipsc-bc-level-2-qualifier-13-abby-classic-rough-cut/
LOCATION:4161 Lakemount Road\, Abbotsford BC\, Canada
END:VEVENT
END:VCALENDAR