BEGIN:VCALENDAR
VERSION:2.0
PRODID:-//GunStuff TV - ECPv6.15.20//NONSGML v1.0//EN
CALSCALE:GREGORIAN
METHOD:PUBLISH
X-ORIGINAL-URL:https://gunstuff.tv
X-WR-CALDESC:Events for GunStuff TV
REFRESH-INTERVAL;VALUE=DURATION:PT1H
X-Robots-Tag:noindex
X-PUBLISHED-TTL:PT1H
BEGIN:VTIMEZONE
TZID:UTC
BEGIN:STANDARD
TZOFFSETFROM:+0000
TZOFFSETTO:+0000
TZNAME:UTC
DTSTART:20250101T000000
END:STANDARD
END:VTIMEZONE
BEGIN:VEVENT
DTSTART;TZID=UTC:20260418T150000
DTEND;TZID=UTC:20260419T003000
DTSTAMP:20260422T110353
CREATED:20260414T200230Z
LAST-MODIFIED:20260414T200230Z
UID:10007827-1776524400-1776558600@gunstuff.tv
SUMMARY:2026 AML Tactical Shotgun
DESCRIPTION:AMl Tactical Shotgun\nMatch Type: Level 1 (Beginner Level)\nArrival: 8:00am This is a same day set up\, ALL COMPETITORS ARE REQUIRED TO ASSIST WITH SETUP.\nShooters Meeting / Safety Meeting: 9:30am\nMatch Starts: 10:00am\nMatch Fee: $40.00\nEMT: multigun@afgc.ca\nPump Action Division:\n• Ammo Capacity: 9 + 1 (Make Ready)\n• After the buzzer\, no restrictions with ammo capacity\, topping up is a go\n• Optics OK\n• Lasers OK\nSemi Auto Division (Tube Fed Magazine):\n• Ammo Capacity: 5 + 1 (Make Ready)\n• After the buzzer\, no restrictions with topping up ammo capacity\, topping up is a go\n• Optics OK\n• Lasers OK\n• Box Mag-fed shotguns will not be allowed at this match.\nNote 1: Shell Holders are highly recommended for this level 1 match. You will need to have on your belt\nor chest rig the ability to hold 12 to 24 shells to complete a course of fire.\nBudget Shooter Supply is taking Pre-Orders for the King Competition Shell Holders.\nwww.budgetshootersupply.ca or 778-858-3669 or info@budgetshootersupply.ca\nNote 2: Once the match is full\, please wait-list! We will be opening some additional slots to\naccommodate shooters.\nThere will be 5 Stages. Round count will be a minimum of 75\n(72 Birdshot / 3 Slugs). Bring 150 rounds you will encounter misses.\nAll refunds will be less the EMT Fee of $2.00.\nAll questions can be directed to Shotgun Match Director / Taka Kuwata: tkk.bcm@gmail.com\nAML Director: Erik Jenson
URL:https://gunstuff.tv/event/2026-aml-tactical-shotgun/
LOCATION:4161 Lakemount Rd\, Abbotsford BC\, Canada
END:VEVENT
END:VCALENDAR