BEGIN:VCALENDAR
VERSION:2.0
PRODID:-//GunStuff TV - ECPv6.15.20//NONSGML v1.0//EN
CALSCALE:GREGORIAN
METHOD:PUBLISH
X-ORIGINAL-URL:https://gunstuff.tv
X-WR-CALDESC:Events for GunStuff TV
REFRESH-INTERVAL;VALUE=DURATION:PT1H
X-Robots-Tag:noindex
X-PUBLISHED-TTL:PT1H
BEGIN:VTIMEZONE
TZID:UTC
BEGIN:STANDARD
TZOFFSETFROM:+0000
TZOFFSETTO:+0000
TZNAME:UTC
DTSTART:20250101T000000
END:STANDARD
END:VTIMEZONE
BEGIN:VEVENT
DTSTART;TZID=UTC:20260425T010000
DTEND;TZID=UTC:20260425T060000
DTSTAMP:20260422T012157
CREATED:20260421T200330Z
LAST-MODIFIED:20260421T200330Z
UID:10008383-1777078800-1777096800@gunstuff.tv
SUMMARY:SGC Friday Night USPSA 4-24-26
DESCRIPTION:SGC is hosting our Friday evening USPSA match. Come out and shoot 3 USPSA stages with us. At least one will be a classifier stage.\nSetup will start at 5pm with hammer down directly after setup is completed.\nDue to range conditions and ice we will be shooting static (non movement) stages only. Round count will be approximately 50rds.\nCost is $10\nIf it’s 0 degrees or colder by 2 PM the match will be canceled. Please call Time and Temperature @ 907-262-9500\nRemember we run a cold range with no loaded firearms until the make ready command is given. If you are arriving with a loaded firearm\, please check in with a Range Officer.\nAll long guns must have a chamber flag and muzzle must be up to and from the gun rack.\nMuzzle must be pointed downrange while unflagging/unbagging while at firing line.
URL:https://gunstuff.tv/event/sgc-friday-night-uspsa-4-24-26/
LOCATION:40450 Shotgun Dr\, Kenai AK\, United States
END:VEVENT
END:VCALENDAR