BEGIN:VCALENDAR
VERSION:2.0
PRODID:-//GunStuff TV - ECPv6.15.20//NONSGML v1.0//EN
CALSCALE:GREGORIAN
METHOD:PUBLISH
X-ORIGINAL-URL:https://gunstuff.tv
X-WR-CALDESC:Events for GunStuff TV
REFRESH-INTERVAL;VALUE=DURATION:PT1H
X-Robots-Tag:noindex
X-PUBLISHED-TTL:PT1H
BEGIN:VTIMEZONE
TZID:UTC
BEGIN:STANDARD
TZOFFSETFROM:+0000
TZOFFSETTO:+0000
TZNAME:UTC
DTSTART:20250101T000000
END:STANDARD
END:VTIMEZONE
BEGIN:VEVENT
DTSTART;TZID=UTC:20260412T170000
DTEND;TZID=UTC:20260413T020000
DTSTAMP:20260422T030430
CREATED:20260407T195450Z
LAST-MODIFIED:20260407T195450Z
UID:10007352-1776013200-1776045600@gunstuff.tv
SUMMARY:SGC NRL 22 2026 April Match 4-12-2026
DESCRIPTION:This is an NRL22 match put on by Snowshoe Gun Club.  Weather permitting\, we will shoot from outside. So this will be the first a sanctioned match of the year!\nSetup starts at 08:00am with the shooting to start at 10:00am.  Depending on the amount of shooters\, we will be running 2 squads\, both to start at 10:00.\nCost for adults is $10.  Juniors shoot free.\nJust a reminder\, all competitors and spectators are required to wear eye and ear protection.  We run a cold range and chamber flags are required.
URL:https://gunstuff.tv/event/sgc-nrl-22-2026-april-match-4-12-2026/
LOCATION:40450 Shotgun Dr\, Kenai AK\, United States
END:VEVENT
BEGIN:VEVENT
DTSTART;TZID=UTC:20260411T173000
DTEND;TZID=UTC:20260412T010000
DTSTAMP:20260422T030430
CREATED:20260407T195431Z
LAST-MODIFIED:20260407T195431Z
UID:10007171-1775928600-1775955600@gunstuff.tv
SUMMARY:SGC 4 Stage Steel Challenge Match 4-11-26
DESCRIPTION:SGC is hosting a 4 Stage Steel Challenge Match.\nWe will be running 1 squad and shooting from inside the building in bays 5. Limit of 2 guns per person.\nCost is $10 for 2 guns.\nMeet in Bay 5 at 9:30am for set up. Shooting to start directly after.\nRemember we run a cold range no loaded firearms until the make ready command is given. Get with RO if arriving with a loaded firearm.\nAll long guns must have a chamber flag and muzzle must be up to and from the gun rack.\nMuzzle must be pointed downrange while unflagging/unbagging while at firing line.
URL:https://gunstuff.tv/event/sgc-4-stage-steel-challenge-match-4-11-26/
LOCATION:40450 Shotgun Dr\, Kenai AK\, United States
END:VEVENT
END:VCALENDAR