BEGIN:VCALENDAR
VERSION:2.0
PRODID:-//GunStuff TV - ECPv6.15.20//NONSGML v1.0//EN
CALSCALE:GREGORIAN
METHOD:PUBLISH
X-WR-CALNAME:GunStuff TV
X-ORIGINAL-URL:https://gunstuff.tv
X-WR-CALDESC:Events for GunStuff TV
REFRESH-INTERVAL;VALUE=DURATION:PT1H
X-Robots-Tag:noindex
X-PUBLISHED-TTL:PT1H
BEGIN:VTIMEZONE
TZID:UTC
BEGIN:STANDARD
TZOFFSETFROM:+0000
TZOFFSETTO:+0000
TZNAME:UTC
DTSTART:20250101T000000
END:STANDARD
END:VTIMEZONE
BEGIN:VEVENT
DTSTART;TZID=UTC:20260426T140000
DTEND;TZID=UTC:20260426T170000
DTSTAMP:20260421T173949
CREATED:20260421T200349Z
LAST-MODIFIED:20260421T200349Z
UID:10008550-1777212000-1777222800@gunstuff.tv
SUMMARY:Marksman LLC USPSA
DESCRIPTION:Welcome to Marksman’s monthly USPSA match.  This match will have four stages\, including one classifier.  Please arrive no later than 8:45 AM  for a start time of 9 AM to pay for registration.  Cost for the match is $25.  As always\, thank you for supporting Marksman!
URL:https://gunstuff.tv/event/marksman-llc-uspsa/
LOCATION:397 Old Jamestown Hwy\, Crossville Tennessee\, United States
END:VEVENT
END:VCALENDAR