BEGIN:VCALENDAR
VERSION:2.0
PRODID:-//GunStuff TV - ECPv6.15.20//NONSGML v1.0//EN
CALSCALE:GREGORIAN
METHOD:PUBLISH
X-ORIGINAL-URL:https://gunstuff.tv
X-WR-CALDESC:Events for GunStuff TV
REFRESH-INTERVAL;VALUE=DURATION:PT1H
X-Robots-Tag:noindex
X-PUBLISHED-TTL:PT1H
BEGIN:VTIMEZONE
TZID:UTC
BEGIN:STANDARD
TZOFFSETFROM:+0000
TZOFFSETTO:+0000
TZNAME:UTC
DTSTART:20250101T000000
END:STANDARD
END:VTIMEZONE
BEGIN:VEVENT
DTSTART;TZID=UTC:20260426T143000
DTEND;TZID=UTC:20260426T200000
DTSTAMP:20260421T184811
CREATED:20260421T200351Z
LAST-MODIFIED:20260421T200351Z
UID:10008568-1777213800-1777233600@gunstuff.tv
SUMMARY:Rio Salado PRS Rimfire Apr 26 2026
DESCRIPTION:This will be a PRS RIMFIRE match for the 2026 season targets will range between 25 and 250 yards. 22 LR and Airguns are the only guns allowed per PRS rules.
URL:https://gunstuff.tv/event/rio-salado-prs-rimfire-apr-26-2026/
LOCATION:3960 North Usery Pass Road\, Mesa AZ\, United States
END:VEVENT
END:VCALENDAR