BEGIN:VCALENDAR
VERSION:2.0
PRODID:-//GunStuff TV - ECPv6.15.20//NONSGML v1.0//EN
CALSCALE:GREGORIAN
METHOD:PUBLISH
X-ORIGINAL-URL:https://gunstuff.tv
X-WR-CALDESC:Events for GunStuff TV
REFRESH-INTERVAL;VALUE=DURATION:PT1H
X-Robots-Tag:noindex
X-PUBLISHED-TTL:PT1H
BEGIN:VTIMEZONE
TZID:UTC
BEGIN:STANDARD
TZOFFSETFROM:+0000
TZOFFSETTO:+0000
TZNAME:UTC
DTSTART:20250101T000000
END:STANDARD
END:VTIMEZONE
BEGIN:VEVENT
DTSTART;TZID=UTC:20260418T140000
DTEND;TZID=UTC:20260418T180000
DTSTAMP:20260423T033204
CREATED:20260414T200208Z
LAST-MODIFIED:20260414T200208Z
UID:10007632-1776520800-1776535200@gunstuff.tv
SUMMARY:TEMPLE GUN CLUB 3rd SATURDAY STEEL CHALLEGE 04-18-26
DESCRIPTION:6 stages of Steel Challenge at Temple Gun Club Range 3924 FM 438 Loop\, Temple\, TX 76501. Sign up / Check in starts at 08:00 until 08:50. Shooting starts at 09:00 until 13:00ish. Match fee is $20 per person\, second gun is $10\, Juniors 17 y/o and younger are $10. Please make sure to bring a bag for your firearm or an appropriate belt holster. Safety flags are required for all PCC’s and Rimfire Rifle’s. Slings are not allowed. A par time will be set at 30 sec on the timer. The minimum and maximum calibers are 22LR\, 9mm – 45 auto. No magnum loads\, tracer\, steel core or incendiary rounds are allowed. Please make sure you arrive early for check in. If you have signed up on Practiscore and are unable to attend please withdraw as soon as possible.
URL:https://gunstuff.tv/event/temple-gun-club-3rd-saturday-steel-challege-04-18-26/
LOCATION:3924 FM 438 Loop Rd\, Temple\, TX\, United States
GEO:31.068306;-97.3047
END:VEVENT
BEGIN:VEVENT
DTSTART;TZID=UTC:20260416T230000
DTEND;TZID=UTC:20260417T010000
DTSTAMP:20260423T033204
CREATED:20260414T200202Z
LAST-MODIFIED:20260414T200202Z
UID:10007577-1776380400-1776387600@gunstuff.tv
SUMMARY:TEMPLE GUN CLUB THURSDAY STEEL CHALLEGE 04-16-26
DESCRIPTION:5 stages of Steel Challenge at Temple Gun Club Range 3924 FM 438 Loop\, Temple\, TX 76501. Sign up / Check in starts at 05:00 until 05:45. Shooting starts at 05:50 until 8:20ish. Match fee is $10 per person\, second gun is $10\, Juniors 17 y/o and younger shoot free. Please make sure to bring a bag for your firearm or an appropriate belt holster. Safety flags are required for all PCC’s and Rimfire Rifle’s. Slings are not allowed. A par time will be set at 30 sec on the timer. The minimum and maximum calibers are 22LR\, 9mm – 45 auto. No magnum loads\, tracer\, steel core or incendiary rounds are allowed. Please make sure you arrive early for check in. If you have signed up on Practiscore and are unable to attend please withdraw as soon as possible.
URL:https://gunstuff.tv/event/temple-gun-club-thursday-steel-challege-04-16-26/
LOCATION:3924 FM 438 Loop Rd\, Temple\, TX\, United States
GEO:31.068306;-97.3047
END:VEVENT
BEGIN:VEVENT
DTSTART;TZID=UTC:20260409T230000
DTEND;TZID=UTC:20260410T010000
DTSTAMP:20260423T033204
CREATED:20260407T195412Z
LAST-MODIFIED:20260407T195412Z
UID:10006995-1775775600-1775782800@gunstuff.tv
SUMMARY:TEMPLE GUN CLUB THURSDAY STEEL CHALLEGE 04-09-26
DESCRIPTION:4 stages of Steel Challenge at Temple Gun Club Range 3924 FM 438 Loop\, Temple\, TX 76501. Sign up / Check in starts at 05:00 until 05:45. Shooting starts at 05:50 until 7:45ish. Match fee is $10 per person\, second gun is $10\, Juniors 17 y/o and younger shoot free. Please make sure to bring a bag for your firearm or an appropriate belt holster. Safety flags are required for all PCC’s and Rimfire Rifle’s. Slings are not allowed. A par time will be set at 30 sec on the timer. The minimum and maximum calibers are 22LR\, 9mm – 45 auto. No magnum loads\, tracer\, steel core or incendiary rounds are allowed. Please make sure you arrive early for check in. If you have signed up on Practiscore and are unable to attend please withdraw as soon as possible.
URL:https://gunstuff.tv/event/temple-gun-club-thursday-steel-challege-04-09-26/
LOCATION:3924 FM 438 Loop Rd\, Temple\, TX\, United States
GEO:31.068306;-97.3047
END:VEVENT
END:VCALENDAR