BEGIN:VCALENDAR
VERSION:2.0
PRODID:-//GunStuff TV - ECPv6.15.20//NONSGML v1.0//EN
CALSCALE:GREGORIAN
METHOD:PUBLISH
X-ORIGINAL-URL:https://gunstuff.tv
X-WR-CALDESC:Events for GunStuff TV
REFRESH-INTERVAL;VALUE=DURATION:PT1H
X-Robots-Tag:noindex
X-PUBLISHED-TTL:PT1H
BEGIN:VTIMEZONE
TZID:UTC
BEGIN:STANDARD
TZOFFSETFROM:+0000
TZOFFSETTO:+0000
TZNAME:UTC
DTSTART:20250101T000000
END:STANDARD
END:VTIMEZONE
BEGIN:VEVENT
DTSTART;TZID=UTC:20260425T160000
DTEND;TZID=UTC:20260425T220000
DTSTAMP:20260424T090223
CREATED:20260421T200326Z
LAST-MODIFIED:20260421T200326Z
UID:10008348-1777132800-1777154400@gunstuff.tv
SUMMARY:April Two Gun at SVRC
DESCRIPTION:CASS strives to provide the Pacific Northwest shooting community the opportunity to test their skills and compete with one another through a variety of unique stages and shooting challenges not typically offered elsewhere. Whether you’re an old hand at competition shooting looking to elevate your skills to the next level\, a new gun owner looking to build competency and familiarity in a safe\, welcoming setting\, or just looking to have fun with great shooters\, CASS is your gateway to action shooting.\nGENERAL MATCH INFO // Contact info@cascadeaction.org\nFAQ // https://cascadeaction.org/pages/faq\nSCHEDULE // SETUP 8:00\, NEW SHOOTERS MEETING 9:30\, GENERAL SAFETY MEETING 10:00. YOU WILL NOT BE ALLOWED TO SHOOT IF YOU MISS THE SAFETY MEETING!\nSTAGES // 5 Stages\nROUND COUNT (Estimates) // 100 Carbine + 100 Handgun\nDIVISIONS // Competition\, Practical\nNew to action shooting / two gun? Sign up as “practical” and bring the following:\nRifle / PCC with sling – Caliber no greater than .308\nHandgun with a safe holster – No SERPA or Uncle Mikes style fabric holsters\n3 Magazines for each firearm\nUse of M855 / SS109 or similar ammo is prohibited\nMATCH FEE // $35\nRULES & SCORING // PCSL General Rulebook\, current revision\, Hit Factor (Points Per Second)\nRulebook can be found at https://www.pcsleague.us/\nREFUND POLICY // Full refunds for all withdrawal requests made through Saturday prior to match date. Note: Refunds issued will be less Stripe’s 3% processing fee.
URL:https://gunstuff.tv/event/april-two-gun-at-svrc/
LOCATION:37904 SE Fall City Snoqualmie RD\, Fall City washington\, United States
END:VEVENT
END:VCALENDAR