BEGIN:VCALENDAR
VERSION:2.0
PRODID:-//GunStuff TV - ECPv6.15.20//NONSGML v1.0//EN
CALSCALE:GREGORIAN
METHOD:PUBLISH
X-ORIGINAL-URL:https://gunstuff.tv
X-WR-CALDESC:Events for GunStuff TV
REFRESH-INTERVAL;VALUE=DURATION:PT1H
X-Robots-Tag:noindex
X-PUBLISHED-TTL:PT1H
BEGIN:VTIMEZONE
TZID:UTC
BEGIN:STANDARD
TZOFFSETFROM:+0000
TZOFFSETTO:+0000
TZNAME:UTC
DTSTART:20250101T000000
END:STANDARD
END:VTIMEZONE
BEGIN:VEVENT
DTSTART;TZID=UTC:20260425T160000
DTEND;TZID=UTC:20260425T210000
DTSTAMP:20260424T090206
CREATED:20260421T200332Z
LAST-MODIFIED:20260421T200332Z
UID:10008404-1777132800-1777150800@gunstuff.tv
SUMMARY:Flagstaff Action Shooters - Classic Action Pistol (ICORE) - April
DESCRIPTION:We are borrowing this concept from our shooting friends in New Mexico – an action pistol match geared towards “classic” handguns. We define classic as revolvers or 1911s\, but we are very inclusive — this is open to all action pistol shooters.\nMandatory safety briefing at ***9:00 a.m.*** followed by first shots. Sign ups open 30 minutes ahead of time\, but showing up an hour ahead of time to help with set up will be appreciated.\nLocation is here: http://flagstaffactionshooters.org/location\nWe will use the ICORE rule set for its simplicity. Scoring is based on total time (no hit factors). Poor hits or misses simply add time to a shooters score. Compared to a USPSA match\, this scoring focuses more on accuracy than speed with stronger penalties for non-Alpha hits.\nMinimum equipment is a revolver or pistol of .38 Special/9mm or larger\, a holster which holds the firearm securely and covers the trigger guard\, and a belt strong enough to carry the gun (no cloth holsters) and ammunition in a safe manner. All participants and spectators must wear eye and ear protection when shooting is in progress. Generally\, 150 rounds are sufficient to complete all courses of fire\, and about 20-30 on any given stage.\nTo keep every thing even\, all guns will shoot with the same capacity restrictions\, specifically a maximum of 8 rounds in the gun at any given time.\n$15 for FAS members\, $25 for non-members. Membership is $50 per year. Kids shoot free. This is payable at the range\, cash or check. We do NOT use PractiScore membership.
URL:https://gunstuff.tv/event/flagstaff-action-shooters-classic-action-pistol-icore-april/
LOCATION:3771 Forest Service 552 Rd\, Flagstaff Arizona\, United States
END:VEVENT
END:VCALENDAR