BEGIN:VCALENDAR
VERSION:2.0
PRODID:-//GunStuff TV - ECPv6.15.20//NONSGML v1.0//EN
CALSCALE:GREGORIAN
METHOD:PUBLISH
X-WR-CALNAME:GunStuff TV
X-ORIGINAL-URL:https://gunstuff.tv
X-WR-CALDESC:Events for GunStuff TV
REFRESH-INTERVAL;VALUE=DURATION:PT1H
X-Robots-Tag:noindex
X-PUBLISHED-TTL:PT1H
BEGIN:VTIMEZONE
TZID:UTC
BEGIN:STANDARD
TZOFFSETFROM:+0000
TZOFFSETTO:+0000
TZNAME:UTC
DTSTART:20250101T000000
END:STANDARD
END:VTIMEZONE
BEGIN:VEVENT
DTSTART;TZID=UTC:20260425T150000
DTEND;TZID=UTC:20260425T190000
DTSTAMP:20260421T185024
CREATED:20260421T200335Z
LAST-MODIFIED:20260421T200335Z
UID:10008435-1777129200-1777143600@gunstuff.tv
SUMMARY:RCPS SCSA April 25
DESCRIPTION:Steel Challenge: WE WILL BE SHOOTING 6 STAGES.  Check Practiscore and the RCPS Facebook page for times.\nWe have added online payment as an option. If you are shooting a second gun pay with the first registration and register the second gun separately.\nShoot 5 steel plates as fast as you can for time. Shoot up to 5 strings of fire per stage and discarding your longest time string for total time/score. You will need a minimum of 150 rounds. Match fees are $25/shooter as a walk on. If you have preregistered\, you will receive a $5 discount. Additional gun is an extra $5. You must have chamber flags for long guns.  If you have a USPSA number please include it in the registration field.  You may only shoot two guns and must register each gun individually.  Please squad yourself and if you can RO or keep score\, spread yourself out among the squads so that we may have an RO at each stage.
URL:https://gunstuff.tv/event/rcps-scsa-april-25/
LOCATION:373 Ambush Trail\, Woodville Alabama\, United States
END:VEVENT
BEGIN:VEVENT
DTSTART;TZID=UTC:20260426T140000
DTEND;TZID=UTC:20260426T200000
DTSTAMP:20260421T185024
CREATED:20260421T200352Z
LAST-MODIFIED:20260421T200352Z
UID:10008582-1777212000-1777233600@gunstuff.tv
SUMMARY:RCPS  PCSL 2-Gun April 26
DESCRIPTION:MATCH DESCRIPTION:\n2025 RCPS PCSL 2gun matches are similar to 3GUN but use only a pistol and carbine. The matches are conducted according to PCSL rules\, hit factor scoring. The rules are strict and the safety procedures must be followed exactly. Violations of the rules may result in disqualification and/or expulsion from the match. If you are unfamiliar with these rules\, study them carefully before registering for your first match. Target distances will vary per match and can be from approximately 5 to 200 yards. 5 Stages\, round count may be adjusted once stages are published but suggest bringing approximately 150 rifle\, 150 pistol. Slings are optional. Shooters are expected to aid in teardown at the end of the match.\nRULES:\nPractical Competition Shooting League Rule: https://www.pcsleague.us/\n2 gun rules: https://docs.google.com/document/d/1xsBOWkxrRF9W0jj92PBJh08zEVqM5RK_XicYEYgU9Ps/edit?tab=t.0#heading=h.t7uliy68q88k\nSAFETY AREAS:\nCavern Cove is a COLD range. to “Firearms must be unloaded at all times except when the competitor is given the commands to “Load and Make Ready”  under the direct supervision by a Safety Officer” . Handling of firearms at vehicles is prohibited. Long guns must have an EMPTY CHAMBER INDICATOR (Chamber Flag) IN PLACE at all times starting from the moment the rifle is uncased. Rifles will be handled following the USPSA PCC rules. Pistols must be unbagged and holstered ONLY at designated safety areas. NO LEATHER OR SERPA HOLSTERS. NO AMMUNITION HANDLING in safety areas. Note that cinder block and plywood walls ARE NOT safety areas. Magnetic\, steel core\, steel (bimetal) jacketed ammunition is STRICTLY PROHIBITED.\nREGISTRATION AND SQUADDING:\nAll registration and squadding is done exclusively via Practiscore\nFees: $25.\nRegistration: 9:00 am\nSafety Brief: 9:30 am\nHammer Down: 9:45 am\nHit Factor level I match\,\nDivisions: Competition and Practical\nBody Armor Category: (Any division but added requirement of plate carrier with plates)
URL:https://gunstuff.tv/event/rcps-pcsl-2-gun-april-26/
LOCATION:373 Ambush Trail\, Woodville Alabama\, United States
END:VEVENT
END:VCALENDAR