BEGIN:VCALENDAR
VERSION:2.0
PRODID:-//GunStuff TV - ECPv6.15.20//NONSGML v1.0//EN
CALSCALE:GREGORIAN
METHOD:PUBLISH
X-WR-CALNAME:GunStuff TV
X-ORIGINAL-URL:https://gunstuff.tv
X-WR-CALDESC:Events for GunStuff TV
REFRESH-INTERVAL;VALUE=DURATION:PT1H
X-Robots-Tag:noindex
X-PUBLISHED-TTL:PT1H
BEGIN:VTIMEZONE
TZID:UTC
BEGIN:STANDARD
TZOFFSETFROM:+0000
TZOFFSETTO:+0000
TZNAME:UTC
DTSTART:20250101T000000
END:STANDARD
END:VTIMEZONE
BEGIN:VEVENT
DTSTART;TZID=UTC:20260425T140000
DTEND;TZID=UTC:20260425T200000
DTSTAMP:20260424T090057
CREATED:20260421T200325Z
LAST-MODIFIED:20260421T200325Z
UID:10008338-1777125600-1777147200@gunstuff.tv
SUMMARY:Burbank Rifle and Revolver Club Precision Rifle Match - April 2026
DESCRIPTION:BRRC is happy to announce the April 2026 Precision Rifle Match.\nOur Precision Rifle matches will consist 6-7 stages with targets up to 1016 yards. The round count will be around 75. Stages will simulate field conditions and appropriate for all skill levels.\nEquipment:  Rifle equipped with an optic that will allow you to locate and engage targets\, and other shooting gear you like to use. Rangefinders\, spotting scopes\, binoculars\, shooting rests are all acceptable.\nAmmunition limitation:  30 caliber maximum.  Maximum muzzle velocity of 3500 FPS. No steel core ammunition will be allowed.\nFees have now changed to $30 for Club Members and $40.00 for non-members. As always the match is free to active duty military.\nSafety Notes: All rifles must have a safety/chamber flag installed and magazines removed when not on the line.
URL:https://gunstuff.tv/event/burbank-rifle-and-revolver-club-precision-rifle-match-april-2026/
LOCATION:36070 Paradise Ranch Road\, Castaic California\, United States
END:VEVENT
END:VCALENDAR