BEGIN:VCALENDAR
VERSION:2.0
PRODID:-//GunStuff TV - ECPv6.15.20//NONSGML v1.0//EN
CALSCALE:GREGORIAN
METHOD:PUBLISH
X-ORIGINAL-URL:https://gunstuff.tv
X-WR-CALDESC:Events for GunStuff TV
REFRESH-INTERVAL;VALUE=DURATION:PT1H
X-Robots-Tag:noindex
X-PUBLISHED-TTL:PT1H
BEGIN:VTIMEZONE
TZID:UTC
BEGIN:STANDARD
TZOFFSETFROM:+0000
TZOFFSETTO:+0000
TZNAME:UTC
DTSTART:20250101T000000
END:STANDARD
END:VTIMEZONE
BEGIN:VEVENT
DTSTART;TZID=UTC:20260425T140000
DTEND;TZID=UTC:20260425T180000
DTSTAMP:20260424T090251
CREATED:20260421T200327Z
LAST-MODIFIED:20260421T200327Z
UID:10008355-1777125600-1777140000@gunstuff.tv
SUMMARY:GPA at MCRC Tactical Match April 2026
DESCRIPTION:Multi Gun this month! Shooters can select 3 Gun Division (shotgun\, PCC and handgun); or 2 Gun Division (shotgun and handgun); or Handgun (or PCC) only Division.\nSee the enclosed information sheet for all the details.\nAWARDS WILL BE GIVEN OUT TO THE WINNERS OF EACH DIVISION!!!!!
URL:https://gunstuff.tv/event/gpa-at-mcrc-tactical-match-april-2026/
LOCATION:3572 Fish Hatchery Road\, Gaston South Carolina\, United States
END:VEVENT
END:VCALENDAR