BEGIN:VCALENDAR
VERSION:2.0
PRODID:-//GunStuff TV - ECPv6.15.20//NONSGML v1.0//EN
CALSCALE:GREGORIAN
METHOD:PUBLISH
X-ORIGINAL-URL:https://gunstuff.tv
X-WR-CALDESC:Events for GunStuff TV
REFRESH-INTERVAL;VALUE=DURATION:PT1H
X-Robots-Tag:noindex
X-PUBLISHED-TTL:PT1H
BEGIN:VTIMEZONE
TZID:UTC
BEGIN:STANDARD
TZOFFSETFROM:+0000
TZOFFSETTO:+0000
TZNAME:UTC
DTSTART:20250101T000000
END:STANDARD
END:VTIMEZONE
BEGIN:VEVENT
DTSTART;TZID=UTC:20260426T130000
DTEND;TZID=UTC:20260426T180000
DTSTAMP:20260421T184828
CREATED:20260421T200350Z
LAST-MODIFIED:20260421T200350Z
UID:10008564-1777208400-1777226400@gunstuff.tv
SUMMARY:FTRPA Outdoor Steel 2026-4-26
DESCRIPTION:This club match is based on Steel Challenge\, but is not an SCSA sanctioned event. Our aim is to run a fun match. We’re newbie friendly and it’s not ultra competitive. If our match shows as full\, you can still sign up for the waiting list. As plans change for shooters\, we routinely move people into the match when openings pop up.\nThe shoot consists of 5 stations of 5-6 steel targets of varying sizes and placed in varying patterns – each stage consists of five strings. Many stages will have a stop plate that must be shot last. The strings are timed\, with your highest time being dropped\, and your remaining 4 strings counting as your score for that stage. Please bring enough ammo (~300 rounds)\, magazines (5)\, and bring the firearm unloaded and cased. We start from the low ready\, and do not use holsters in the match.\nEntry is $15; second guns for any entry are also $15; Juniors (under 18) are free with an adult entry. Payment is made at registration with cash\, Zelle\, Venmo\, or check.\nRegistration opens by 8:15am. Registration closes firmly at 9am. Anyone not checked in by that time will be removed from their squad.\nSee https://www.ftrpa.com/programs/action-steel/ for more details.
URL:https://gunstuff.tv/event/ftrpa-outdoor-steel-2026-4-26/
LOCATION:354 Newbold Rd\, Fairless Hills PA\, United States
END:VEVENT
END:VCALENDAR