BEGIN:VCALENDAR
VERSION:2.0
PRODID:-//GunStuff TV - ECPv6.15.20//NONSGML v1.0//EN
CALSCALE:GREGORIAN
METHOD:PUBLISH
X-WR-CALNAME:GunStuff TV
X-ORIGINAL-URL:https://gunstuff.tv
X-WR-CALDESC:Events for GunStuff TV
REFRESH-INTERVAL;VALUE=DURATION:PT1H
X-Robots-Tag:noindex
X-PUBLISHED-TTL:PT1H
BEGIN:VTIMEZONE
TZID:UTC
BEGIN:STANDARD
TZOFFSETFROM:+0000
TZOFFSETTO:+0000
TZNAME:UTC
DTSTART:20250101T000000
END:STANDARD
END:VTIMEZONE
BEGIN:VEVENT
DTSTART;TZID=UTC:20260411T150000
DTEND;TZID=UTC:20260411T190000
DTSTAMP:20260424T104508
CREATED:20260407T195422Z
LAST-MODIFIED:20260407T195422Z
UID:10007082-1775919600-1775934000@gunstuff.tv
SUMMARY:CAGC April 11th Steel Challenge
DESCRIPTION:**\nNEW -> to Practiscore or Steel Challenge and NEED HELP CALL:\nLanna Woods………334-207-7625\nScott Rouse ………..334-328-7831\n**\n*\n5 Official stages with 5 strings\nOne Fun Stage total of 6 stages.\n*\n*\nL@@K ———> 10 AM  S T A R T <————\nYou must be signed in – registered by 9:45 am\nMATCH CLOSES AT 9:50 <——–\nSAFETY BRIEFING AT 9:55 am at your assigned stage – bay\nMUST BE PRESENT AT SAFETY MEETING TO SHOOT THIS MATCH\n###################\nPRICING:\n1st Div: $20.00\n2nd Div.$10.00\nWe reserve the right to relocate –\nMove shooters to a different squad – bay at Match Check in to balance out squads.\nThank you for understanding.
URL:https://gunstuff.tv/event/cagc-april-11th-steel-challenge/
LOCATION:34791 CO RD 2\, SHORTER AL\, United States
END:VEVENT
END:VCALENDAR