BEGIN:VCALENDAR
VERSION:2.0
PRODID:-//GunStuff TV - ECPv6.15.20//NONSGML v1.0//EN
CALSCALE:GREGORIAN
METHOD:PUBLISH
X-ORIGINAL-URL:https://gunstuff.tv
X-WR-CALDESC:Events for GunStuff TV
REFRESH-INTERVAL;VALUE=DURATION:PT1H
X-Robots-Tag:noindex
X-PUBLISHED-TTL:PT1H
BEGIN:VTIMEZONE
TZID:UTC
BEGIN:STANDARD
TZOFFSETFROM:+0000
TZOFFSETTO:+0000
TZNAME:UTC
DTSTART:20250101T000000
END:STANDARD
END:VTIMEZONE
BEGIN:VEVENT
DTSTART;TZID=UTC:20260418T140000
DTEND;TZID=UTC:20260418T190000
DTSTAMP:20260424T073906
CREATED:20260414T200220Z
LAST-MODIFIED:20260414T200220Z
UID:10007737-1776520800-1776538800@gunstuff.tv
SUMMARY:MCRC Steel Challenge 4-18-2026
DESCRIPTION:Match starts at 10:00 am. Registration starts at 9:15 and ENDS at 9:50am! $5 fee for late arrivals!\nAll PCC and rimfire rifles must be flagged and bagged or in a cart.\nSteel Challenge sanctioned match. 3rd Saturday of every month. 5 stages. $10 for the 1st firearm. $5 for the 2nd and 3rd firearm in different divisions. New shooters pay half price. Juniors are free.\nWe will be shooting:  Accelerator\, 5 To Go\, Showdown\, Smoke & Hope and Roundabout.\nYou may register a 3rd gun\, but do NOT squad it! If space is available in your squad when the match information is downloaded\, your 3rd gun will be added to your squad.\nIf you need to WITHDRAW after the match closes on Friday evening\, please text or email me.\nSETUP HELP NEEDED! Match set up is on Friday at 8:30 am. Helpers get a $15 discount and any not used this month will be saved for future use. Please let me know if you are going to help\nEmail jwholling@bellsouth.net for additional details\, if you have problems registering\, or if you plan to help set up.
URL:https://gunstuff.tv/event/mcrc-steel-challenge-4-18-2026/
LOCATION:3435 Fish Hatchery Rd.\, Gaston SC\, United States
END:VEVENT
END:VCALENDAR