BEGIN:VCALENDAR
VERSION:2.0
PRODID:-//GunStuff TV - ECPv6.15.20//NONSGML v1.0//EN
CALSCALE:GREGORIAN
METHOD:PUBLISH
X-ORIGINAL-URL:https://gunstuff.tv
X-WR-CALDESC:Events for GunStuff TV
REFRESH-INTERVAL;VALUE=DURATION:PT1H
X-Robots-Tag:noindex
X-PUBLISHED-TTL:PT1H
BEGIN:VTIMEZONE
TZID:UTC
BEGIN:STANDARD
TZOFFSETFROM:+0000
TZOFFSETTO:+0000
TZNAME:UTC
DTSTART:20250101T000000
END:STANDARD
END:VTIMEZONE
BEGIN:VEVENT
DTSTART;TZID=UTC:20260411T150000
DTEND;TZID=UTC:20260411T193000
DTSTAMP:20260424T104704
CREATED:20260407T195428Z
LAST-MODIFIED:20260407T195428Z
UID:10007143-1775919600-1775935800@gunstuff.tv
SUMMARY:Big Sky Long Range Precision Shooters April Steel Match
DESCRIPTION:Shooters meeting at 0900.  Steel match\, bring 75 rifle rounds\, and 50 pistol rounds.   $40 entry fee.  Distance from 100 to 1250 yards.  Two classes: under 13# and over 13#.  6 stages.  Shooting by 0915.  Should be done by 1400.  There will be two stages that require a pistol.   We will have multiple position stages and it’ll be perfect for new shooters or shooters that want to work on positions.    We’ve also added a Non-Positional division that does not include positions\, all stages will be shot from bench or prone for those shooters.\n                              EYE AND EAR PROTECTION ARE REQUIRED.
URL:https://gunstuff.tv/event/big-sky-long-range-precision-shooters-april-steel-match/
LOCATION:330 Indian Creek Road\, Townsend Montana\, United States
END:VEVENT
END:VCALENDAR