BEGIN:VCALENDAR
VERSION:2.0
PRODID:-//GunStuff TV - ECPv6.15.20//NONSGML v1.0//EN
CALSCALE:GREGORIAN
METHOD:PUBLISH
X-ORIGINAL-URL:https://gunstuff.tv
X-WR-CALDESC:Events for GunStuff TV
REFRESH-INTERVAL;VALUE=DURATION:PT1H
X-Robots-Tag:noindex
X-PUBLISHED-TTL:PT1H
BEGIN:VTIMEZONE
TZID:UTC
BEGIN:STANDARD
TZOFFSETFROM:+0000
TZOFFSETTO:+0000
TZNAME:UTC
DTSTART:20250101T000000
END:STANDARD
END:VTIMEZONE
BEGIN:VEVENT
DTSTART;TZID=UTC:20260424T150000
DTEND;TZID=UTC:20260424T220000
DTSTAMP:20260422T053444
CREATED:20260421T200330Z
LAST-MODIFIED:20260421T200330Z
UID:10008380-1777042800-1777068000@gunstuff.tv
SUMMARY:ORPCI 2Gun Friday 2026.04.24
DESCRIPTION:PCSL style two gun (rifle or PCC) and handgun.  Maximum distance for rifle ~ 220 yds and ~ 60 yds for PCC.  There will be six stages with ~ 100 rounds per gun.
URL:https://gunstuff.tv/event/orpci-2gun-friday-2026-04-24/
LOCATION:3289 Oak Rd\, Lewisport KY\, United States
END:VEVENT
BEGIN:VEVENT
DTSTART;TZID=UTC:20260425T150000
DTEND;TZID=UTC:20260425T220000
DTSTAMP:20260422T053444
CREATED:20260421T200335Z
LAST-MODIFIED:20260421T200335Z
UID:10008437-1777129200-1777154400@gunstuff.tv
SUMMARY:ORPCI 2Gun Saturday 4-25-26
DESCRIPTION:PCSL style two gun with (rifle or PC) and handgun.  Maximum rifle distance ~  220 yds and PCC ~ 60 yds.  There will be six stages with round count ~ 100 each gun.
URL:https://gunstuff.tv/event/orpci-2gun-saturday-4-25-26/
LOCATION:3289 Oak Rd\, Lewisport KY\, United States
END:VEVENT
END:VCALENDAR