BEGIN:VCALENDAR
VERSION:2.0
PRODID:-//GunStuff TV - ECPv6.15.20//NONSGML v1.0//EN
CALSCALE:GREGORIAN
METHOD:PUBLISH
X-ORIGINAL-URL:https://gunstuff.tv
X-WR-CALDESC:Events for GunStuff TV
REFRESH-INTERVAL;VALUE=DURATION:PT1H
X-Robots-Tag:noindex
X-PUBLISHED-TTL:PT1H
BEGIN:VTIMEZONE
TZID:UTC
BEGIN:STANDARD
TZOFFSETFROM:+0000
TZOFFSETTO:+0000
TZNAME:UTC
DTSTART:20250101T000000
END:STANDARD
END:VTIMEZONE
BEGIN:VEVENT
DTSTART;TZID=UTC:20260411T150000
DTEND;TZID=UTC:20260411T210000
DTSTAMP:20260424T104538
CREATED:20260407T195426Z
LAST-MODIFIED:20260407T195426Z
UID:10007123-1775919600-1775941200@gunstuff.tv
SUMMARY:MGS SCSA Apr 11\, 2026 Steel Challenge
DESCRIPTION:Match is held Bay 0\, 1\, 2.\nSign-In 8:00 AM\nMatch Start 8:30 AM\nThis is a great event for newcomers to sport shooting events or increasing your speed and accuracy.\nFor this match we will be using 6 official steel challenge stages for this fun and friendly match. Approximately 150 rounds for the day\nthe stage line-up will be Showdown\, Smoke & Hope\, The Pendulum\, Roundabout\, Speed Option\, Outer Limits\nRimfire and pistol caliber rifles\, pistols\, and revolvers can be used and at least 5 magazines.\nMGS Members Enjoy a $5 discount on Steel Challenge and $10 off USPSA matches.\nFees: $15.00 first gun for NON-MGS members\, $10.00 first gun for MGS members.\n$5.00 for each additional gun\, when available.\nJuniors (12 to 17) Free with paid member parent.  (Donations are accepted).
URL:https://gunstuff.tv/event/mgs-scsa-apr-11-2026-steel-challenge/
LOCATION:3275 Oatman Rd\, Kingman AZ\, United States
END:VEVENT
END:VCALENDAR