BEGIN:VCALENDAR
VERSION:2.0
PRODID:-//GunStuff TV - ECPv6.15.20//NONSGML v1.0//EN
CALSCALE:GREGORIAN
METHOD:PUBLISH
X-WR-CALNAME:GunStuff TV
X-ORIGINAL-URL:https://gunstuff.tv
X-WR-CALDESC:Events for GunStuff TV
REFRESH-INTERVAL;VALUE=DURATION:PT1H
X-Robots-Tag:noindex
X-PUBLISHED-TTL:PT1H
BEGIN:VTIMEZONE
TZID:UTC
BEGIN:STANDARD
TZOFFSETFROM:+0000
TZOFFSETTO:+0000
TZNAME:UTC
DTSTART:20250101T000000
END:STANDARD
END:VTIMEZONE
BEGIN:VEVENT
DTSTART;TZID=UTC:20260407T223000
DTEND;TZID=UTC:20260408T003000
DTSTAMP:20260424T083830
CREATED:20260407T195359Z
LAST-MODIFIED:20260407T195359Z
UID:10006886-1775601000-1775608200@gunstuff.tv
SUMMARY:Eagle Eye Challenge - Red Dot (4/7/26)
DESCRIPTION:Eagle Eye Challenge is designed to test your skills in a timed\, moving and shooting competition. The courses of fire will challenge you mentally and physically. Shooters will engage targets from behind cover or from a seated position\, while also having to perform magazine changes. Your final time will be based upon hits and misses.\nSuggested Items:\n1 firearm\n2 boxes of ammo\n3 magazines\nHearing and eye protection\nLong sleeve shirts and pants\nEquipment:\nIron sights or red dot optics\n3 magazines\nAmmunition:\nStandard commercial and reloaded ammunition is permitted.\nAny type of ammunition designed for penetrating metal is NOT permitted.\nIf you are using a rental thru the SSEC you must purchase our ammunition to use thru it.\nNo steel jacketed\, steel shot\, or steel core bullets permitted.\nNo tracer\, incendiary\, armor piercing\, gas or explosive ammunition is permitted.\n**Everyone must be present for the safety brief which will take place 15 minutes prior to the timing round.\nNote for those who have competed in an Eagle Eye before who are not familiar with the changes made for the Red Dot competition:\nGeneral course of fire may be altered.\nRed dot optics are PERMITTED.\nCompetitors who wish to compete without a red dot may do so. Please note that the course of fire may be designed for red dot shooters and there will not be a separate division for iron sights. There is a separate division listed below on the registration form so the match RSOs know how many to expect for each sight type.
URL:https://gunstuff.tv/event/eagle-eye-challenge-red-dot-4-7-26/
LOCATION:3271 Old Register Road\, Statesboro\, GA\, United States
GEO:32.425;-81.784956
END:VEVENT
END:VCALENDAR