BEGIN:VCALENDAR
VERSION:2.0
PRODID:-//GunStuff TV - ECPv6.15.20//NONSGML v1.0//EN
CALSCALE:GREGORIAN
METHOD:PUBLISH
X-ORIGINAL-URL:https://gunstuff.tv
X-WR-CALDESC:Events for GunStuff TV
REFRESH-INTERVAL;VALUE=DURATION:PT1H
X-Robots-Tag:noindex
X-PUBLISHED-TTL:PT1H
BEGIN:VTIMEZONE
TZID:UTC
BEGIN:STANDARD
TZOFFSETFROM:+0000
TZOFFSETTO:+0000
TZNAME:UTC
DTSTART:20250101T000000
END:STANDARD
END:VTIMEZONE
BEGIN:VEVENT
DTSTART;TZID=UTC:20260424T210000
DTEND;TZID=UTC:20260424T230000
DTSTAMP:20260422T001226
CREATED:20260421T200314Z
LAST-MODIFIED:20260421T200314Z
UID:10008240-1777064400-1777071600@gunstuff.tv
SUMMARY:IPSC Friday Night Pistol Fundy Shooting Sports
DESCRIPTION:IPSC Pistol and Rifle
URL:https://gunstuff.tv/event/ipsc-friday-night-pistol-fundy-shooting-sports/
LOCATION:3267 RedHead Road\, Mispec New Brunswick\, Canada
END:VEVENT
END:VCALENDAR