BEGIN:VCALENDAR
VERSION:2.0
PRODID:-//GunStuff TV - ECPv6.15.20//NONSGML v1.0//EN
CALSCALE:GREGORIAN
METHOD:PUBLISH
X-ORIGINAL-URL:https://gunstuff.tv
X-WR-CALDESC:Events for GunStuff TV
REFRESH-INTERVAL;VALUE=DURATION:PT1H
X-Robots-Tag:noindex
X-PUBLISHED-TTL:PT1H
BEGIN:VTIMEZONE
TZID:UTC
BEGIN:STANDARD
TZOFFSETFROM:+0000
TZOFFSETTO:+0000
TZNAME:UTC
DTSTART:20250101T000000
END:STANDARD
END:VTIMEZONE
BEGIN:VEVENT
DTSTART;TZID=UTC:20260425T123000
DTEND;TZID=UTC:20260425T180000
DTSTAMP:20260424T085535
CREATED:20260421T200317Z
LAST-MODIFIED:20260421T200317Z
UID:10008274-1777120200-1777140000@gunstuff.tv
SUMMARY:CCRPC MEMORIAL VALOR 3 GUN BENEFIT MATCH - April 25 2026
DESCRIPTION:****NOTICE****\nEffective immediately\, the SIG Sauer P320 and its variants (M17\,M18\,etc.) are restricted from use in matches hosted at CCRPC. We understand that many shooters enjoy these platforms\, but recent considerations have led us to restrict their use during official match events.\n=========================\nMATCH FEE $40\n100% OF ALL PROCEEDS GO DIRECTLY TO THE MEMORIAL VALOR FOUNDATION\nhttps://www.memorialvalor.com\nThis match will also offer a special ‘Mulligan’ option for all shooters…you can purchase a single one-use token to re-shoot a stage for $10. This new stage score\, EVEN IF WORSE\, will be entered as your official score.\nWe are working on securing prizes for the competitors as well as free lunch for all in attendance…details will post on social media\n=========================\nFollow/visit us on Instagram and Facebook:\nhttps://www.instagram.com/ccrpc3gun/\nhttps://www.facebook.com/ccrpc3gun/\n=========================\n4 Stages (3gun/2gun will have rifle only targets out to 300 yards)\nROUND COUNT\n50 Rifle\n60 Shotgun\n60 Pistol\n(These are estimates based off 3 Gun division and may vary based on your stage plan/accuracy/skill level…so bring extra!)\n****NOTE****\nMinimum Caliber restrictions in effect for 3 Gun and 2 Gun divisions ONLY:\nRifle – .223/5.56 and up\nHandgun – 9mm and up\nShotgun – 20ga and up\n=========================\n– DIVISIONS –\n+ UNLIMITED – 3 GUN +\nNo limitations on accessories\, box mag shotguns and speed loaders\, compensators\, ported barrels\, optics\, overall magazine length\, or total rounds loaded at start. Suppressors allowed for rifle only in this division.\n+ MODIFIED – 3 GUN +\nFirearms must function/operate in original factory configuration. Internal/External modifications are allowed so long as all original factory function/operation remain.\nRIFLE:\nIron sights and/or only one (1) magnified optic OR red dot with/without magnifier. No magazine capacity of length restrictions. One bipod is allowed but must remain on rifle for entire stage.\nPISTOL:\nIron sights and/or no more than one (1) slide mounted optic located between ejection port and rear of slide. Pistol magazine maximum OAL 141.25mm double stack\, 171.25mm single stack. Compensators or barrel porting are NOT ALLOWED.\nSHOTGUN:\nSingle non-magnified red dot sight is allowed\, as well as compensators\, porting and/or ported chokes. Limited to tube fed magazines only and no more than 13 shells total in shotgun at stage start (loading additional after start permitted). Shotgun speed loaders and supporting devices (i.e. bipods) are NOT ALLOWED.\n+ PRACTICAL – 3 GUN +\nFirearms must function/operate in original factory configuration. Internal/External modifications are allowed so long as all original factory function/operation remain.\nRIFLE:\nIron sights and/or only one (1) magnified optic OR red dot with/without magnifier. No magazine capacity of length restrictions. Bipods and other supporting devices are NOT ALLOWED.\nPISTOL:\nElectronic/optical sights are NOT ALLOWED. Pistol magazine maximum OAL 141.25mm double stack\, 171.25mm single stack. Compensators or barrel porting are NOT ALLOWED.\nSHOTGUN:\nElectronic/optical sights are NOT ALLOWED. Limited to tube fed magazines only and no more than 9 shells total in shotgun at stage start (loading additional after start permitted). Compensators\, porting or ported chokes\, speed loaders and supporting devices (i.e. bipods) are NOT ALLOWED.\n+ 2 GUN +\nSame rules as UNLIMITED\, but will use a RIFLE and PISTOL only for the entire match.\n+ PCC +\nSame rules as UNLIMITED\, but will use a PCC only for entire match. Braced Pistols (ex. AR style 9mm) in pistol caliber are allowed in this division as a PCC.\n+ PISTOL ONLY +\nSame rules as UNLIMITED\, but will use a PISTOL ONLY for the entire match. This category would most closely resemble a ‘USPSA’ feel to the event.\nNOTE:\n2 GUN\, PCC and PISTOL ONLY shooters may have course of fire modified to fit within safety parameters for pistol caliber rounds (ex. no aerial clays\, etc).\nAlso\, you are welcome to register again for another division. For example\, if you can’t decide on shooting 3/2 GUN or PCC/Pistol…why not do both!\n=========================\nOnce you register you will be need to pick a squad. This is found at the bottom of the ‘Thank You’ page that displays after registering. If you do not select a squad\, the Match Director will select one for you. PLEASE NOTE: Match Directors will adjust squads as necessary prior to match to balance numbers\, starting from the last registered shooter. If you want to ensure your squad\, register early and make your selection at registration! Also\, if you decide to register for more than one division\, please make sure to select the same squad for each.\nSafety brief begins at 8:30 am\, please arrive a few minutes early to confirm registration and pay match fee. YOU MUST BE AT THE SAFETY BRIEF TO PARTICIPATE!\nPlease plan accordingly for the weather\, as well as food/water needs.
URL:https://gunstuff.tv/event/ccrpc-memorial-valor-3-gun-benefit-match-april-25-2026/
LOCATION:3229 Blossom Road\, Fayetteville\, NC\, United States
GEO:35.0748;-78.884257
END:VEVENT
END:VCALENDAR