BEGIN:VCALENDAR
VERSION:2.0
PRODID:-//GunStuff TV - ECPv6.15.20//NONSGML v1.0//EN
CALSCALE:GREGORIAN
METHOD:PUBLISH
X-WR-CALNAME:GunStuff TV
X-ORIGINAL-URL:https://gunstuff.tv
X-WR-CALDESC:Events for GunStuff TV
REFRESH-INTERVAL;VALUE=DURATION:PT1H
X-Robots-Tag:noindex
X-PUBLISHED-TTL:PT1H
BEGIN:VTIMEZONE
TZID:UTC
BEGIN:STANDARD
TZOFFSETFROM:+0000
TZOFFSETTO:+0000
TZNAME:UTC
DTSTART:20250101T000000
END:STANDARD
END:VTIMEZONE
BEGIN:VEVENT
DTSTART;TZID=UTC:20260426T160000
DTEND;TZID=UTC:20260426T200000
DTSTAMP:20260421T173825
CREATED:20260421T200354Z
LAST-MODIFIED:20260421T200354Z
UID:10008597-1777219200-1777233600@gunstuff.tv
SUMMARY:Ant Hill IDPA April 26th 5 Stages
DESCRIPTION:Sign in 11:15-11:45. Safety brief at noon. First shots about 12:15. We always need volunteers to help set up\, SO\, and tear down. Be sure to check set-up crew on the registration form if you can help set up. 09:00 arrival for set-up the morning of the match.  Set-up volunteers shoot free.  $20 match fee.  We provide water and Gatorade (summer months).  Please bring your own water bottle\, cup\, or hydration bladder.\nI look forward to seeing you on the range.\nEvan Morigerato\nAnt Hill IDPA match director
URL:https://gunstuff.tv/event/ant-hill-idpa-april-26th-5-stages/
LOCATION:3110 Southport-Supply Rd SE\, Bolivia NC\, United States
END:VEVENT
END:VCALENDAR