BEGIN:VCALENDAR
VERSION:2.0
PRODID:-//GunStuff TV - ECPv6.15.20//NONSGML v1.0//EN
CALSCALE:GREGORIAN
METHOD:PUBLISH
X-WR-CALNAME:GunStuff TV
X-ORIGINAL-URL:https://gunstuff.tv
X-WR-CALDESC:Events for GunStuff TV
REFRESH-INTERVAL;VALUE=DURATION:PT1H
X-Robots-Tag:noindex
X-PUBLISHED-TTL:PT1H
BEGIN:VTIMEZONE
TZID:UTC
BEGIN:STANDARD
TZOFFSETFROM:+0000
TZOFFSETTO:+0000
TZNAME:UTC
DTSTART:20250101T000000
END:STANDARD
END:VTIMEZONE
BEGIN:VEVENT
DTSTART;TZID=UTC:20260426T150000
DTEND;TZID=UTC:20260426T190000
DTSTAMP:20260421T172527
CREATED:20260421T200349Z
LAST-MODIFIED:20260421T200349Z
UID:10008549-1777215600-1777230000@gunstuff.tv
SUMMARY:Oil Capital Steel Challenge April 26 2026
DESCRIPTION:Sign in begins at 9:30 AM\nShoot starts around 10 AM after safety meeting.\nPre-registration strongly advised.\nBring your own seating and beverages.\nMatch Fee’s are:\nOCRGC Members = $15 for first gun and a additional $10 for 2nd gun.\nNon-member’s = $20 for first gun and a additional $10 for 2nd gun.\nJr’s and preteen’s shoot at OC member rate of $15.
URL:https://gunstuff.tv/event/oil-capital-steel-challenge-april-26-2026/
LOCATION:30603 E 101st St South\, Coweta OK\, United States
END:VEVENT
END:VCALENDAR