BEGIN:VCALENDAR
VERSION:2.0
PRODID:-//GunStuff TV - ECPv6.15.20//NONSGML v1.0//EN
CALSCALE:GREGORIAN
METHOD:PUBLISH
X-WR-CALNAME:GunStuff TV
X-ORIGINAL-URL:https://gunstuff.tv
X-WR-CALDESC:Events for GunStuff TV
REFRESH-INTERVAL;VALUE=DURATION:PT1H
X-Robots-Tag:noindex
X-PUBLISHED-TTL:PT1H
BEGIN:VTIMEZONE
TZID:UTC
BEGIN:STANDARD
TZOFFSETFROM:+0000
TZOFFSETTO:+0000
TZNAME:UTC
DTSTART:20250101T000000
END:STANDARD
END:VTIMEZONE
BEGIN:VEVENT
DTSTART;TZID=UTC:20260425T123000
DTEND;TZID=UTC:20260425T180000
DTSTAMP:20260424T090526
CREATED:20260421T200325Z
LAST-MODIFIED:20260421T200325Z
UID:10008340-1777120200-1777140000@gunstuff.tv
SUMMARY:NRL22- West Central Indiana 22lr April 2026 cof
DESCRIPTION:Standard 5 NRL stages plus 2 or 3 bonus stages.  Shot in a unique wooded range with bonus stages out to 225 yards.  Targets are well marked\, but the nature of the wooded area yields a challenging acquisition environment.\nWe pride ourselves in welcoming and helping all skill levels.  These matches usually attract some of the areas top shooters\, as well as complete novices.  You will he hard pressed to find a more welcoming and better learning opportunity.\nAll Times are Eastern Standard Time\n8:30 est Check-in & zero range open\n MUST CHECK-IN & SIGN RANGE RELEASE BEFORE ZEROING\n9:20 est Shooters Meeting\n9:30 est match start\nZero will have paper grid at 50\, steel at 75 and 92yds for verification\nHome to the 2025 EMBRACE THE SUCK NRL22X MATCH to be held in April
URL:https://gunstuff.tv/event/nrl22-west-central-indiana-22lr-april-2026-cof/
LOCATION:3057 west county road 1200 north\, Brazil Indiana\, United States
END:VEVENT
END:VCALENDAR