BEGIN:VCALENDAR
VERSION:2.0
PRODID:-//GunStuff TV - ECPv6.15.20//NONSGML v1.0//EN
CALSCALE:GREGORIAN
METHOD:PUBLISH
X-ORIGINAL-URL:https://gunstuff.tv
X-WR-CALDESC:Events for GunStuff TV
REFRESH-INTERVAL;VALUE=DURATION:PT1H
X-Robots-Tag:noindex
X-PUBLISHED-TTL:PT1H
BEGIN:VTIMEZONE
TZID:UTC
BEGIN:STANDARD
TZOFFSETFROM:+0000
TZOFFSETTO:+0000
TZNAME:UTC
DTSTART:20250101T000000
END:STANDARD
END:VTIMEZONE
BEGIN:VEVENT
DTSTART;TZID=UTC:20260411T123000
DTEND;TZID=UTC:20260411T200000
DTSTAMP:20260424T105218
CREATED:20260407T195430Z
LAST-MODIFIED:20260407T195430Z
UID:10007169-1775910600-1775937600@gunstuff.tv
SUMMARY:Embrace the Suck presented by Athlon 2026 NRL22X
DESCRIPTION:Match Details:\nWhat makes this event unique and welcoming? 10 fun stages in the woods with a cof that will challenge your abilities\nWill this match be cart friendly? Carts are welcome but all rifles will be staged on firing line\, space behind the firing line is limited\nWhat type of engagements can be expected at this event? Expect targets out past 230 yards\nWhat type of lunch will be included? Yes there will be a lunch provided and delivered to squads.\nAre there any activities scheduled the day prior? There will be a bonus stages Friday evening before the match\nAdult Price: $75\nYoung Gun Price: $50\nNumber of Stages: 10\nMax Distance: 230+\nRound Count: 110+\nMulligans: available morning of match\nPrize Table: yes\nTrophies: yes\nOn-Site Primitive Camping is available\, Please RSVP for details\nRefund Policy: This match fee is non-refundable\, but you may sell your spot to another competitor. If selling your spot to another competitor please email the match director at the email address listed below for more information.\nMatch Timeline:\nCheck-in Time: 7:30am Eastern\nZero Time: 7:30am – 8:15am\nSafety Brief: 8:15am\nMatch Start: 8:30am\nAwards: after match and arbitration period
URL:https://gunstuff.tv/event/embrace-the-suck-presented-by-athlon-2026-nrl22x/
LOCATION:3057 west county road 1200 north\, Brazil Indiana\, United States
END:VEVENT
END:VCALENDAR