BEGIN:VCALENDAR
VERSION:2.0
PRODID:-//GunStuff TV - ECPv6.15.20//NONSGML v1.0//EN
CALSCALE:GREGORIAN
METHOD:PUBLISH
X-ORIGINAL-URL:https://gunstuff.tv
X-WR-CALDESC:Events for GunStuff TV
REFRESH-INTERVAL;VALUE=DURATION:PT1H
X-Robots-Tag:noindex
X-PUBLISHED-TTL:PT1H
BEGIN:VTIMEZONE
TZID:UTC
BEGIN:STANDARD
TZOFFSETFROM:+0000
TZOFFSETTO:+0000
TZNAME:UTC
DTSTART:20250101T000000
END:STANDARD
END:VTIMEZONE
BEGIN:VEVENT
DTSTART;TZID=UTC:20260411T140000
DTEND;TZID=UTC:20260411T200000
DTSTAMP:20260424T104541
CREATED:20260407T195431Z
LAST-MODIFIED:20260407T195431Z
UID:10007173-1775916000-1775937600@gunstuff.tv
SUMMARY:West Missouri Plinkers April COF @ DeadRingers Ranch
DESCRIPTION:April Monthly NRL22 COF at DeadRingers Ranch\nLocation:\nDeadRingers Ranch\n30106 E 315th St\nGarden City\, MO 64747\nApril 2026 NRL22 COF\nSat April 11th\nSign In/ Zero opens at 8:00am\nBring $25 Cash\nSafety Brief Starts – 9:00am\nMatch will Start following Safety Brief\n5 NRL22 Stages\n1-3 possible bonus stages\n120 Max Rounds in the match\nTargets could be from 25-350 yards\nClosest lodging about 10 miles away in Harrisonville\, MO
URL:https://gunstuff.tv/event/west-missouri-plinkers-april-cof-deadringers-ranch/
LOCATION:30106 E 315th St\, Garden City MO\, United States
END:VEVENT
END:VCALENDAR