BEGIN:VCALENDAR
VERSION:2.0
PRODID:-//GunStuff TV - ECPv6.15.20//NONSGML v1.0//EN
CALSCALE:GREGORIAN
METHOD:PUBLISH
X-WR-CALNAME:GunStuff TV
X-ORIGINAL-URL:https://gunstuff.tv
X-WR-CALDESC:Events for GunStuff TV
REFRESH-INTERVAL;VALUE=DURATION:PT1H
X-Robots-Tag:noindex
X-PUBLISHED-TTL:PT1H
BEGIN:VTIMEZONE
TZID:UTC
BEGIN:STANDARD
TZOFFSETFROM:+0000
TZOFFSETTO:+0000
TZNAME:UTC
DTSTART:20250101T000000
END:STANDARD
END:VTIMEZONE
BEGIN:VEVENT
DTSTART;TZID=UTC:20260411T160000
DTEND;TZID=UTC:20260411T220000
DTSTAMP:20260422T055051
CREATED:20260407T195421Z
LAST-MODIFIED:20260407T195421Z
UID:10007078-1775923200-1775944800@gunstuff.tv
SUMMARY:BTSA ASL All Steel Match Handgun-Shotgun or Mini Rifle
DESCRIPTION:Action Shooting League\nWe will be shooting 4-6 Stages of Action Steel. Stages will consist of all steel targets.\nHandgun\, Mini Rifle and Shotgun Allowed.\n$17 non-member\, $7 members.\nPayment required online. No refunds.\nQuestions? asl@btsa.club\nIPSC divisions will adhere to official division rules. Competitors selecting these options should read the IPSC shotgun\, Mini and Handgun rule books and division requirements.\n**The rule: Max. distance of cartridges or reloading devices from body (excluding cartridges carried in or on the gun or sling) will not be enforced at this time**\n______________________________________________________________\nGeneral Match Rules\n-Lead Shot birdshot only\n-No Steel Core\n-#7.5 shot is the largest size of shot\n-Only factory ammo\n-Min caliber is 12ga\n-Shotgun must have a stock than can be shouldered\n-Shotguns must be able to hold a minimum of 5 shells\n-Break action not allowed
URL:https://gunstuff.tv/event/btsa-asl-all-steel-match-handgun-shotgun-or-mini-rifle/
LOCATION:300-8120 Beddington Boulevard Northwest\, Calgary Alberta\, Canada
END:VEVENT
END:VCALENDAR