BEGIN:VCALENDAR
VERSION:2.0
PRODID:-//GunStuff TV - ECPv6.15.20//NONSGML v1.0//EN
CALSCALE:GREGORIAN
METHOD:PUBLISH
X-ORIGINAL-URL:https://gunstuff.tv
X-WR-CALDESC:Events for GunStuff TV
REFRESH-INTERVAL;VALUE=DURATION:PT1H
X-Robots-Tag:noindex
X-PUBLISHED-TTL:PT1H
BEGIN:VTIMEZONE
TZID:UTC
BEGIN:STANDARD
TZOFFSETFROM:+0000
TZOFFSETTO:+0000
TZNAME:UTC
DTSTART:20250101T000000
END:STANDARD
END:VTIMEZONE
BEGIN:VEVENT
DTSTART;TZID=UTC:20260411T133000
DTEND;TZID=UTC:20260411T190000
DTSTAMP:20260424T104609
CREATED:20260407T195421Z
LAST-MODIFIED:20260407T195421Z
UID:10007075-1775914200-1775934000@gunstuff.tv
SUMMARY:ACC Practical Accuracy Apr 11 2026
DESCRIPTION:Monthly Practical Accuracy Match 6 stages\nSetup 0930 shots fired at 1100\nPlease contact me w questions\nJeff\n317-439-2216
URL:https://gunstuff.tv/event/acc-practical-accuracy-apr-11-2026/
LOCATION:29595 East 88th\, Atlanta IN\, United States
END:VEVENT
END:VCALENDAR