BEGIN:VCALENDAR
VERSION:2.0
PRODID:-//GunStuff TV - ECPv6.15.20//NONSGML v1.0//EN
CALSCALE:GREGORIAN
METHOD:PUBLISH
X-WR-CALNAME:GunStuff TV
X-ORIGINAL-URL:https://gunstuff.tv
X-WR-CALDESC:Events for GunStuff TV
REFRESH-INTERVAL;VALUE=DURATION:PT1H
X-Robots-Tag:noindex
X-PUBLISHED-TTL:PT1H
BEGIN:VTIMEZONE
TZID:UTC
BEGIN:STANDARD
TZOFFSETFROM:+0000
TZOFFSETTO:+0000
TZNAME:UTC
DTSTART:20250101T000000
END:STANDARD
END:VTIMEZONE
BEGIN:VEVENT
DTSTART;TZID=UTC:20260418T120000
DTEND;TZID=UTC:20260418T200000
DTSTAMP:20260424T071712
CREATED:20260414T200210Z
LAST-MODIFIED:20260414T200210Z
UID:10007653-1776513600-1776542400@gunstuff.tv
SUMMARY:NRL22 - Pemi Fish and Game NRL22 (April COF)
DESCRIPTION:This match will be for the NRL22’s April’s Course of Fire.\nRegistration is REQUIRED by noon eastern standard time the day prior to the match.\nThe match fee is $25.00 due the day of the match via cash or check. Check’s should be made payable to the Pemi Fish and Game Club.
URL:https://gunstuff.tv/event/nrl22-pemi-fish-and-game-nrl22-april-cof/
LOCATION:295 Beede Road\, Holderness\, NH\, United States
GEO:43.737831;-71.604406
END:VEVENT
END:VCALENDAR