BEGIN:VCALENDAR
VERSION:2.0
PRODID:-//GunStuff TV - ECPv6.15.20//NONSGML v1.0//EN
CALSCALE:GREGORIAN
METHOD:PUBLISH
X-WR-CALNAME:GunStuff TV
X-ORIGINAL-URL:https://gunstuff.tv
X-WR-CALDESC:Events for GunStuff TV
REFRESH-INTERVAL;VALUE=DURATION:PT1H
X-Robots-Tag:noindex
X-PUBLISHED-TTL:PT1H
BEGIN:VTIMEZONE
TZID:UTC
BEGIN:STANDARD
TZOFFSETFROM:+0000
TZOFFSETTO:+0000
TZNAME:UTC
DTSTART:20250101T000000
END:STANDARD
END:VTIMEZONE
BEGIN:VEVENT
DTSTART;TZID=UTC:20260418T130000
DTEND;TZID=UTC:20260418T183000
DTSTAMP:20260424T071816
CREATED:20260414T200211Z
LAST-MODIFIED:20260414T200211Z
UID:10007662-1776517200-1776537000@gunstuff.tv
SUMMARY:GMSA Tactical Pistol April 2026
DESCRIPTION:This match is OPEN to the public you do not have to be a GMSA member to shoot.\nIF YOU PLAN ON SHOOTING TWO GUNS\, PLEASE REGISTER AND SQUAD YOURSELF TWICE!   ONCE FOR EACH GUN.\nexample:\nyour first registration = Charlie Chamberchecker – PISTOL\nyour second registration = Charlie Chamberchecker – PCC\nRound Count: Typical round count is about 65-75 rounds maximum.\nIndividual mileage may vary but we do recommend that you bring around 100-175 rounds\, (for each gun)\, just in case you need to reshoot a stage.\nIf you want to shoot PCC and PISTOL\, you are more than welcome to do this but please register yourself twice\, one registration for each gun.  In the case of two guns\, you need to pay TWO match fee’s\, (one per gun).  Shooters shooting two guns will not run the course of fire back to back.  We typically group the PCC shooters together on each squad and they shoot the stages after the pistol shooters have shot.\nMatch Fee: $15 for most – GMSA club members are discounted to $10 (must show current year gate key or unexpired GMSA ID card for proof of membership)\nPLEASE BRING EXACT CHANGE!  Match fees will be collected by each squad’s Safety Officer.  The Safety Officer IS NOT responsible for making change.  Seriously – please bring exact change for your shoot fee(s).  If you show up with a $100 bill\, please be prepared to donate your change to the club\, or not shoot because you did not have exact change.\nNO EXCUSES\, NO EXCEPTIONS PLEASE!
URL:https://gunstuff.tv/event/gmsa-tactical-pistol-april-2026/
LOCATION:291 Oakway Estates\, Eastanollee\, GA\, United States
GEO:34.52038;-83.25544
END:VEVENT
END:VCALENDAR