BEGIN:VCALENDAR
VERSION:2.0
PRODID:-//GunStuff TV - ECPv6.15.20//NONSGML v1.0//EN
CALSCALE:GREGORIAN
METHOD:PUBLISH
X-ORIGINAL-URL:https://gunstuff.tv
X-WR-CALDESC:Events for GunStuff TV
REFRESH-INTERVAL;VALUE=DURATION:PT1H
X-Robots-Tag:noindex
X-PUBLISHED-TTL:PT1H
BEGIN:VTIMEZONE
TZID:UTC
BEGIN:STANDARD
TZOFFSETFROM:+0000
TZOFFSETTO:+0000
TZNAME:UTC
DTSTART:20250101T000000
END:STANDARD
END:VTIMEZONE
BEGIN:VEVENT
DTSTART;TZID=UTC:20260425T140000
DTEND;TZID=UTC:20260425T220000
DTSTAMP:20260424T085522
CREATED:20260421T200320Z
LAST-MODIFIED:20260421T200320Z
UID:10008292-1777125600-1777154400@gunstuff.tv
SUMMARY:Hotchkiss Action Pistol 2nd April 2026 IDPA match
DESCRIPTION:HAP IDPA  MATCH!!\nSquadding is open at this time with pmt ($20) being taken at the range on match day.\nSet-up begins at 8:00\, with first shots expected by 10:00am.\n6 stage IDPA Match\, plus warm-up stage\, allowing all classes.\n150rds of appropriate ammunition recommended.\nStrong side (OWB or IWB) holster required\, minimum of three magazines or speed loaders required. Magazine / speed-loader pouches recommended. Cover garment required.\nYou do not need to be a member if IDPA to participate\, but membership is encouraged. Scores and / or classifier results can only be reported to IDPA for shooters with a current IDPA membership.\nClassifier available on request.
URL:https://gunstuff.tv/event/hotchkiss-action-pistol-2nd-april-2026-idpa-match/
LOCATION:29051 Highway 92\, Hotchkiss\, CO\, United States
GEO:38.859973;-107.752349
END:VEVENT
END:VCALENDAR