BEGIN:VCALENDAR
VERSION:2.0
PRODID:-//GunStuff TV - ECPv6.15.20//NONSGML v1.0//EN
CALSCALE:GREGORIAN
METHOD:PUBLISH
X-ORIGINAL-URL:https://gunstuff.tv
X-WR-CALDESC:Events for GunStuff TV
REFRESH-INTERVAL;VALUE=DURATION:PT1H
X-Robots-Tag:noindex
X-PUBLISHED-TTL:PT1H
BEGIN:VTIMEZONE
TZID:UTC
BEGIN:STANDARD
TZOFFSETFROM:+0000
TZOFFSETTO:+0000
TZNAME:UTC
DTSTART:20250101T000000
END:STANDARD
END:VTIMEZONE
BEGIN:VEVENT
DTSTART;TZID=UTC:20260418T133000
DTEND;TZID=UTC:20260418T183000
DTSTAMP:20260424T074033
CREATED:20260414T200214Z
LAST-MODIFIED:20260414T200214Z
UID:10007685-1776519000-1776537000@gunstuff.tv
SUMMARY:NRL22-Ft. Campbell (April 2026 COF)
DESCRIPTION:We will have 8 stages\, 5 NRL22 stages and 3 bonus\, with targets ranging from 25-300 yards. For the 5 NRL22 stages we will typically have 1-2 stages that are option 2.\nThe NRL22 course of fire can be found here. The course of fire is typically published about a week before the beginning of each month.\nhttps://nrl22.com/product-category/downloads/\nDirections to the range: Range directions can be found through Google Maps by searching for “MWR Range 16 And 15” and through Apple Maps “Range 16”.\nIf you do not have a military ID\, retiree ID\, or daily access to Fort Campbell\, then you MUST use the Gate 4 Visitor’s Center (Screaming Eagle Blvd\, Fort Campbell\, KY 42223). After you get your day pass proceed through Gat 4 and stay straight the entire time until you get to a T intersection which is Screaming Eagle Blvd. & Market Garden Rd. Make a right and the range will be directly on your left.\nMatch & Safety brief: 8:45 am\nZero range opens: 9:00 am\nMatch begins: 9:30 am\nMatch fee:\n$30 for non-NRL22 Members (NRL22 Memberships: https://nrl22.com/product-category/memberships/\n$25 for NRL22 Members\n$20 for Young Guns.\nThe range fee will be paid be me.\n*************************IMPORTANT INFO*************************\nIf you are bringing a suppressor you MUST have your tax stamp with you.\nIf your firearm is not permitted with the Provost Marshall’s Office it must be done ahead of time\, this is a once a year thing and out of our control.\nThe firearms permit form can be found on my google drive below. This form MUST be downloaded first and then opened from your folder that you downloaded it to.\nFirearms Permit: https://drive.google.com/file/d/1U7-7hTfWZ-R4qg2Cft4hloNo7q9e1Ymw/view?usp=sharing\nEmail completed registration form to:\nusarmy.campbell.imcom-atlantic.mbx.des-access-control@army.mil\nFor a fast turn around\, email it at night.  Once completed\, no more than 3 days\, you will receive a permit via return e-mail from the Provost Marshall’s office. Make sure that you have that form with you any time you come on the installation with that firearm. There is no need to report that you have a firearm in the vehicle at the gate but if they ask then you must declare that you do.\nIf you have not received your permit within 3-5 days call the T.C. Freeman Visitor’s Center directly at (270) 412-1631\nIf you don’t have a military ID card you will need to get a day pass. You can now get your day pass up to 2 weeks prior and online. Use this link to get your day pass.\nVisitor’s Pass:\nOption 1 (most reliable): Go to the Gate 4 Visitor’s Center on Screaming Eagle Blvd.\nOption 2 (least reliable): You can do an online pass\, but this has been a very hit or miss process where it denies people due to errors on the system’s end. https://pass.aie.army.mil/\nLodging is available off of Wilma Rudolph Blvd which is about 25 min away from the range. Additional lodging is available in Oak Grove which is about 15 min away.
URL:https://gunstuff.tv/event/nrl22-ft-campbell-april-2026-cof/
LOCATION:28th Street\, Fort Campbell Kentucky\, United States
END:VEVENT
END:VCALENDAR