BEGIN:VCALENDAR
VERSION:2.0
PRODID:-//GunStuff TV - ECPv6.15.20//NONSGML v1.0//EN
CALSCALE:GREGORIAN
METHOD:PUBLISH
X-ORIGINAL-URL:https://gunstuff.tv
X-WR-CALDESC:Events for GunStuff TV
REFRESH-INTERVAL;VALUE=DURATION:PT1H
X-Robots-Tag:noindex
X-PUBLISHED-TTL:PT1H
BEGIN:VTIMEZONE
TZID:UTC
BEGIN:STANDARD
TZOFFSETFROM:+0000
TZOFFSETTO:+0000
TZNAME:UTC
DTSTART:20250101T000000
END:STANDARD
END:VTIMEZONE
BEGIN:VEVENT
DTSTART;TZID=UTC:20260409T233000
DTEND;TZID=UTC:20260410T013000
DTSTAMP:20260424T084748
CREATED:20260407T195412Z
LAST-MODIFIED:20260407T195412Z
UID:10007003-1775777400-1775784600@gunstuff.tv
SUMMARY:NSPS Practice with Purpose 04/09/26
DESCRIPTION:NSPS Practice with Purpose offers a straightforward stage setup\, which participants run multiple times. This format allows shooters to focus on specific skills of their choice in a controlled environment. These sessions are designed for skill development and generally are not scored\, encouraging personalized improvement without the pressure of competition.\nTo ensure safety and maintain the standard of competition\, guests must have a valid USPSA classification or a proven track record on Practiscore.com of participation in practical shooting matches (USPSA\, IDPA\, IPSC\, etc.).\nThe match fee is $5\, which helps NSPS cover essential costs such as targets and pasters. Please note that the range\, Northshore Sports Club\, also charges a $40 range fee\, payable in addition to the NSPS match fee.\nFor safety reasons\, NSPS allows ONLY outside-the-waistband (OWB) holsters.\nSignups are subject to approval. Your participation in the event is confirmed once you are approved and your NSPS fee is paid. If you are approved but have not paid and there is an active waitlist\, your spot will be forfeited\, and you will be placed on the waitlist.\nAll participants are subject to the terms of our waiver\, which includes agreeing to abide by NSPS Rules & Regulations – those Rules & Regulations\, which contain the text of the waiver\, can be viewed at tiny.cc/nsps_rules.
URL:https://gunstuff.tv/event/nsps-practice-with-purpose-04-09-26/
LOCATION:28392 Ballard Dr\, Lake Forest\, IL\, United States
GEO:42.240027;-87.877569
END:VEVENT
END:VCALENDAR