BEGIN:VCALENDAR
VERSION:2.0
PRODID:-//GunStuff TV - ECPv6.15.20//NONSGML v1.0//EN
CALSCALE:GREGORIAN
METHOD:PUBLISH
X-WR-CALNAME:GunStuff TV
X-ORIGINAL-URL:https://gunstuff.tv
X-WR-CALDESC:Events for GunStuff TV
REFRESH-INTERVAL;VALUE=DURATION:PT1H
X-Robots-Tag:noindex
X-PUBLISHED-TTL:PT1H
BEGIN:VTIMEZONE
TZID:UTC
BEGIN:STANDARD
TZOFFSETFROM:+0000
TZOFFSETTO:+0000
TZNAME:UTC
DTSTART:20250101T000000
END:STANDARD
END:VTIMEZONE
BEGIN:VEVENT
DTSTART;TZID=UTC:20260409T230000
DTEND;TZID=UTC:20260410T013000
DTSTAMP:20260424T083658
CREATED:20260407T195412Z
LAST-MODIFIED:20260407T195412Z
UID:10007000-1775775600-1775784600@gunstuff.tv
SUMMARY:CBS Evening Match April 2026
DESCRIPTION:Hit Factor scoring\n4 courses of fire\nRegistration is at 5:30\nHammer Down at 6PM\nSpeed Limit once you leave the paved road is 10 MPH.\nCASH ONLY\n**We currently have a restriction on the Sig Sauer P320 and its variants\, in accordance with CCGC**
URL:https://gunstuff.tv/event/cbs-evening-match-april-2026/
LOCATION:2832 FM 763\, Corpus Christi\, TX\, United States
GEO:27.797802;-97.399067
END:VEVENT
END:VCALENDAR