BEGIN:VCALENDAR
VERSION:2.0
PRODID:-//GunStuff TV - ECPv6.15.20//NONSGML v1.0//EN
CALSCALE:GREGORIAN
METHOD:PUBLISH
X-ORIGINAL-URL:https://gunstuff.tv
X-WR-CALDESC:Events for GunStuff TV
REFRESH-INTERVAL;VALUE=DURATION:PT1H
X-Robots-Tag:noindex
X-PUBLISHED-TTL:PT1H
BEGIN:VTIMEZONE
TZID:UTC
BEGIN:STANDARD
TZOFFSETFROM:+0000
TZOFFSETTO:+0000
TZNAME:UTC
DTSTART:20250101T000000
END:STANDARD
END:VTIMEZONE
BEGIN:VEVENT
DTSTART;TZID=UTC:20260426T150000
DTEND;TZID=UTC:20260426T180000
DTSTAMP:20260421T172839
CREATED:20260421T200351Z
LAST-MODIFIED:20260421T200351Z
UID:10008567-1777215600-1777226400@gunstuff.tv
SUMMARY:Corpus Christi Steel Challenge April 24 2026 match
DESCRIPTION:We will have up to 5 stages for the match.  Please pre-register as it saves time on Sunday morning.\nWe will be using 5 of the new provisional stages.\nCCGC reserves the right to change the stages and number of stages used. If you are considering shooting this match please pre-register as it saves a lot of time on Sunday morning and helps us start on time. We will limit match to four squads of ten guns (40 guns). SHOOTERS MAY SIGN UP TO SHOOT A MAXIMUM OF 2 GUNS DURING PRE-REGISTRATION\, if at match time there are open slots (fewer than 40 guns) shooters may be allowed to shoot a third gun.\nAny rules questions\, disputes or protest during a match will be decided by the match director or CCGC management. Good sportsman like behavior is expected of each participant and their guest at all times. Match director or CCGC management have the authority to eject any shooter and/or their guest for safety and behavior issues.\nNo pistol holsters are allowed that could cause the user to break the 180 degree rule when drawing or re-holstering (cross-draw\, shoulder\, FBI cant etc.).  Steel Challenge Shooting Assoc. rules apply.\nSquad sizes of no more than 10 guns or 10 shooters per squad will be enforced and limit of no more than 2 guns per individual.\nSet up will be Saturday afternoon by Staff.\nBack Gate (orange) to match Opens at 9:30 am on Sunday morning.\nRegistration 9:30 am\nHammer down 10:00 am\nFees: CCGC current members fee is $25.00 for those that pre-register on Practiscore\, $30.00 to register the day of the match.\n$30 for non members if pre-registered\, $35 to register day of match\nExtra gun $10.00 if pre-register on Practiscore\, $15.00 the day of the match.\n$5.00 discount for Juniors 18 & under for 1st gun only if pre-registered on Practiscore\, Full price to register day of the match. \nCheck email and website for weather updates and information:\non Facebook; Corpus Christi Gun Club\ncorpuschristigunclub.com
URL:https://gunstuff.tv/event/corpus-christi-steel-challenge-april-24-2026-match/
LOCATION:2832 FM 763\, Corpus Christi Texas\, United States
END:VEVENT
END:VCALENDAR