BEGIN:VCALENDAR
VERSION:2.0
PRODID:-//GunStuff TV - ECPv6.15.20//NONSGML v1.0//EN
CALSCALE:GREGORIAN
METHOD:PUBLISH
X-WR-CALNAME:GunStuff TV
X-ORIGINAL-URL:https://gunstuff.tv
X-WR-CALDESC:Events for GunStuff TV
REFRESH-INTERVAL;VALUE=DURATION:PT1H
X-Robots-Tag:noindex
X-PUBLISHED-TTL:PT1H
BEGIN:VTIMEZONE
TZID:UTC
BEGIN:STANDARD
TZOFFSETFROM:+0000
TZOFFSETTO:+0000
TZNAME:UTC
DTSTART:20250101T000000
END:STANDARD
END:VTIMEZONE
BEGIN:VEVENT
DTSTART;TZID=UTC:20260411T150000
DTEND;TZID=UTC:20260411T190000
DTSTAMP:20260424T140538
CREATED:20260407T195423Z
LAST-MODIFIED:20260407T195423Z
UID:10007098-1775919600-1775934000@gunstuff.tv
SUMMARY:SAGC Steel Challenge - April 2026
DESCRIPTION:The San Angelo Gun Club will host a 5-stage Steel Challenge match on Saturday\, April 11\, 2026.\nSAGC is now affiliated with the Steel Challenge Shooting Association\, so for SCSA members\, your stage scores will count toward your divisional classification.\n$15 per person for up to two gun entries (cash only)\n0830 – Stage Setup\n0930 – Check-in\, payment\n0955 – Safety Briefing\n1000 – Match Shooting Begins\nEye and ear protection REQUIRED for all competitors and spectators\nBring extra magazines (for 10rd mags bring 5 or more mags\, 15+rd mags bring 3 to 5 mags)\nFor Centerfire Pistol Division\, a strong-side belt holster is required.  The holster must cover the trigger & safely retain the pistol (inside-the-waistband holsters and drawing from concealment are NOT PERMITTED in Steel Challenge)\nFor Rimfire Pistol Division\, a case/bag is mandatory\nFor Rimfire Rifle and Pistol Caliber Carbine Divisions\, a case/bag AND chamber flag is mandatory\n125 rounds per match entry (bring an extra 50-100 rounds)\n22LR\, 9mm\, .38cal\, .40 S&W\, .45 ACP\nNo magnum ammo\, No steel core ammo\, No incendiary ammo
URL:https://gunstuff.tv/event/sagc-steel-challenge-april-2026/
LOCATION:2827 Winger Rd\, San Angelo Texas\, United States
END:VEVENT
END:VCALENDAR