BEGIN:VCALENDAR
VERSION:2.0
PRODID:-//GunStuff TV - ECPv6.15.20//NONSGML v1.0//EN
CALSCALE:GREGORIAN
METHOD:PUBLISH
X-ORIGINAL-URL:https://gunstuff.tv
X-WR-CALDESC:Events for GunStuff TV
REFRESH-INTERVAL;VALUE=DURATION:PT1H
X-Robots-Tag:noindex
X-PUBLISHED-TTL:PT1H
BEGIN:VTIMEZONE
TZID:UTC
BEGIN:STANDARD
TZOFFSETFROM:+0000
TZOFFSETTO:+0000
TZNAME:UTC
DTSTART:20250101T000000
END:STANDARD
END:VTIMEZONE
BEGIN:VEVENT
DTSTART;TZID=UTC:20260425T143000
DTEND;TZID=UTC:20260425T220000
DTSTAMP:20260424T085722
CREATED:20260421T200321Z
LAST-MODIFIED:20260421T200321Z
UID:10008300-1777127400-1777154400@gunstuff.tv
SUMMARY:WEGC 2&3 Multi Gun April 2026- Must Arrive at Range by 730
DESCRIPTION:2026 Announcement-  Read first section\nWe are making a format change to the match\, all shooters need to arrive at 7:30AM\, everyone will help setup the stage you are starting on\, we will still have stage setup leaders that will coordinate the build.  Once the stage coordinator says you are done\, go to Bay 8 and check in\, get you gear ready\, hopefully we can have safety meeting at 8:45.\nHopefully this goes super smooth and everyone contributes equally\, but we will give sharing the load across the community and adjust as we move forward.  Here are the acceptable reasons for arriving late;\n1. Medical limitations\n2. Anyone over 72 years old\n3.  Travel time to the match is over 2 hours\n4.  You were abducted by aliens and have clear video evidence or the zombie apocalypse kicks off.\n5 stages.\nMatch Fee is $15 for WEGC Full members\, $25 for Limited Members and Guests.\nPlease note the entry fees have been raised by $5.  This is to cover the increase in costs of targets\, wood and supplies.\nRecommended load out for the match is 250 rifle and pistol\, 75 birdshot\, 5 buck\, 5 slugs\nContact 3gun@wegc.org with questions\nMatch Set-up starts at 7am\nSign-in begins @ 7:30am.\nMandatory shooters meeting at 8:45am\nFirst Shoots down range 9am\nFor additional info and stage designs\, go to:\nhttps://wegc.org/forum2/index.php?board=4.0\nFor range location see go to\nhttps://www.wegc.org/wordpress/?page_id=9
URL:https://gunstuff.tv/event/wegc-23-multi-gun-april-2026-must-arrive-at-range-by-730/
LOCATION:2766 Meyers Canyon Road\, California City\, CA\, United States
GEO:35.187133;-117.885359
END:VEVENT
END:VCALENDAR