BEGIN:VCALENDAR
VERSION:2.0
PRODID:-//GunStuff TV - ECPv6.15.20//NONSGML v1.0//EN
CALSCALE:GREGORIAN
METHOD:PUBLISH
X-WR-CALNAME:GunStuff TV
X-ORIGINAL-URL:https://gunstuff.tv
X-WR-CALDESC:Events for GunStuff TV
REFRESH-INTERVAL;VALUE=DURATION:PT1H
X-Robots-Tag:noindex
X-PUBLISHED-TTL:PT1H
BEGIN:VTIMEZONE
TZID:UTC
BEGIN:STANDARD
TZOFFSETFROM:+0000
TZOFFSETTO:+0000
TZNAME:UTC
DTSTART:20250101T000000
END:STANDARD
END:VTIMEZONE
BEGIN:VEVENT
DTSTART;TZID=UTC:20260411T170000
DTEND;TZID=UTC:20260411T200000
DTSTAMP:20260424T104504
CREATED:20260407T195425Z
LAST-MODIFIED:20260407T195425Z
UID:10007112-1775926800-1775937600@gunstuff.tv
SUMMARY:Tesro Rimfire Precision Paper Challenge - Stittsville Ranges April 11 2026
DESCRIPTION:Tesro Rimfire Precision Paper Challenge – Benchrest  and Prone 50m and 100m\nExpected round count: 250 Rounds\n1) 50 Yard Bench – 2 attempts (submit highest scoring target of the 2)\n1) 50 Yard Prone – 2 attempts (submit highest scoring target of the 2)\n2) 100 Yard Bench – 2 attempts (submit highest scoring target of the 2)\n2) 100 Yard Prone – 2 attempts (submit highest scoring target of the 2)\nShooters will have a total of 30 minutes to shoot both targets score.  There is no limit to the number of sighters expended.\nThe 50 yard target has 3 sighter targets and 20 targets for score.  Shooters may only count 1 hit per target.  In the event that more than 1 hit is present\, the highest scoring hits will be removed until 1 hit remains.  If the hit touches/breaks  a higher scoring ring\, the higher scoring ring will be counted.\nThe 100 yard target has 2 sighter targets and 4 targets for score.  Shooters will have 20 minutes to shoot sighters and 5 rounds per scoring target (total of 20 scoring rounds) for score.  No limit on number of sighters.\nIn the event that more than 5 scoring hit are present on a target\, the highest scoring hits will be removed until 5 hits remain.  If the hit touches/breaks  a higher scoring ring\, the higher scoring ring will be counted.\nThe divisions will follow the current CRPS division segmentation.\nThere are currently no limitations or constraints on front support or rear support used.\nTargets are available for download here:\n50 Yard – https://drive.google.com/file/d/1S8RNZNUkZhda74iTDXwClLPbSvsLvIvz/view?usp=sharing\n100 Yard – https://drive.google.com/file/d/1S82_g87U1UANIHeVbEqTotzYiVRqomkW/view?usp=sharing\nCompetitor Check-In:    2:00 pm\nSafety Briefing at:          2:15 pm\nMatch Starts at:             2:30 pm\nMatch Ends at               4:00 pm\nTeardown and cleanup: 4:15 pm\nResults announced: 4:30 pm\nMap and directions to the match will be sent to registered competitors.\nFor any questions\, please contact the match director at info@rimfireprecision.ca
URL:https://gunstuff.tv/event/tesro-rimfire-precision-paper-challenge-stittsville-ranges-april-11-2026/
LOCATION:275 Rue Notre-Dame Est\, Montréal Québec\, Canada
END:VEVENT
END:VCALENDAR