BEGIN:VCALENDAR
VERSION:2.0
PRODID:-//GunStuff TV - ECPv6.15.20//NONSGML v1.0//EN
CALSCALE:GREGORIAN
METHOD:PUBLISH
X-WR-CALNAME:GunStuff TV
X-ORIGINAL-URL:https://gunstuff.tv
X-WR-CALDESC:Events for GunStuff TV
REFRESH-INTERVAL;VALUE=DURATION:PT1H
X-Robots-Tag:noindex
X-PUBLISHED-TTL:PT1H
BEGIN:VTIMEZONE
TZID:UTC
BEGIN:STANDARD
TZOFFSETFROM:+0000
TZOFFSETTO:+0000
TZNAME:UTC
DTSTART:20250101T000000
END:STANDARD
END:VTIMEZONE
BEGIN:VEVENT
DTSTART;TZID=UTC:20260423T150000
DTEND;TZID=UTC:20260424T000000
DTSTAMP:20260423T071533
CREATED:20260421T200309Z
LAST-MODIFIED:20260421T200309Z
UID:10008201-1776956400-1776988800@gunstuff.tv
SUMMARY:PRS Match set up Crew QSC April 24 2026
DESCRIPTION:Setup Crew for April PRS match\nFRIDAY  April  23 Time TBD (1200-1500)\nSet targets\, props and Zero targets\nMatch fees will be waived
URL:https://gunstuff.tv/event/prs-match-set-up-crew-qsc-april-24-2026/
LOCATION:27211 Garand Rd\, Quantico\, VA\, United States
GEO:38.52602;-77.322803
END:VEVENT
END:VCALENDAR