BEGIN:VCALENDAR
VERSION:2.0
PRODID:-//GunStuff TV - ECPv6.15.20//NONSGML v1.0//EN
CALSCALE:GREGORIAN
METHOD:PUBLISH
X-WR-CALNAME:GunStuff TV
X-ORIGINAL-URL:https://gunstuff.tv
X-WR-CALDESC:Events for GunStuff TV
REFRESH-INTERVAL;VALUE=DURATION:PT1H
X-Robots-Tag:noindex
X-PUBLISHED-TTL:PT1H
BEGIN:VTIMEZONE
TZID:UTC
BEGIN:STANDARD
TZOFFSETFROM:+0000
TZOFFSETTO:+0000
TZNAME:UTC
DTSTART:20250101T000000
END:STANDARD
END:VTIMEZONE
BEGIN:VEVENT
DTSTART;TZID=UTC:20260418T150000
DTEND;TZID=UTC:20260418T200000
DTSTAMP:20260421T203031
CREATED:20260414T200219Z
LAST-MODIFIED:20260414T200219Z
UID:10007721-1776524400-1776542400@gunstuff.tv
SUMMARY:Las Vegas Practical Shooting Club - Practical Rifle Match - April 18
DESCRIPTION:Las Vegas Practical Shooting Club Monthly Practical Rifle Match at Boulder Rifle & Pistol Club (BRPC)\nYou can find the UPDATED\, as of March 2nd\, rule book here: https://www.dropbox.com/scl/fo/0mm3svpvw2hc07e44xyu3/AGb2ssSFUH-V1E2kJF1jFp8?rlkey=cqyduw6zqk1cl920c6xw5rhiv&e=2&st=zdlhezee&dl=0\nDivisions are simplified all on ONE page so read them to see which you want to shoot in.\nDivisions available: Grunt\, Operator\, Gamer (COSPLAY has been removed)\nIn a general sense\, Grunt is for iron or non magnified optics\, Operator is for Magnified optics\, Gamer is open to anything\nThere will be 3 stages with 3 squads of no more than 15 shooters per squad for a total of 45 shooters.  Round count is 90 -120 rounds but bring at least 200 for make up shots and possible re-shoots.\nSQUADDING POLICY: Squadding will be allowed once approval has been sent. BRPC members will have the priority to squad.\nPre-registrations will be taken for all\, when open\, but squadding will follow the above priority.  We expect everyone that wants to shoot will be able to shoot just not on the squad they might want.\nMatch Fee (CASH Only):\n$20 – BRPC members (please bring your membership card)\n$25 – non-members\nWe need about 8 volunteers (and two pickup trucks) to help with building and tearing down stages. Anyone that volunteers gets a free match and the appreciation of all\, along with early registration and squadding. Those working must be at the range at 7:00 AM and STAY AFTER the match ends to clean up.\n***We will confirm with you\, BY EMAIL\, if you will be needed for the setup crew. Only EIGHT volunteers get the free match***\nCheck-In / Registration closes at 8:00 AM SHARP; shooters meeting before 8:30 AM; Match starts immediately after shooters meeting.\nPlease be at CHECK-IN BEFORE 8:00 am to pay or you will LOSE YOUR SPOT\nDOUBLE CHECK YOUR EMAIL ADDRESS TO MAKE SURE IT IS CORRECT or you will NOT get a confirmation email or an email to squad. You will receive a confirmation email immediately\, if not check your spam folder\nPLEASE NOTE: If the match fills up we will be taking a wait list. There are ALWAYS withdrawals and there are ALWAYS no shows. So if you want to shoot the match\, pre-register and you will be added as withdrawals happen.
URL:https://gunstuff.tv/event/las-vegas-practical-shooting-club-practical-rifle-match-april-18/
LOCATION:2700 Utah Street\, Boulder City NV\, United States
END:VEVENT
END:VCALENDAR